BEGIN:VCALENDAR
VERSION:2.0
PRODID:-//KRTN Enchanted Air Radio - ECPv5.16.4.1//NONSGML v1.0//EN
CALSCALE:GREGORIAN
METHOD:PUBLISH
X-WR-CALNAME:KRTN Enchanted Air Radio
X-ORIGINAL-URL:https://krtnradio.com/wp
X-WR-CALDESC:Events for KRTN Enchanted Air Radio
BEGIN:VTIMEZONE
TZID:America/Denver
BEGIN:DAYLIGHT
TZOFFSETFROM:-0700
TZOFFSETTO:-0600
TZNAME:MDT
DTSTART:20200308T090000
END:DAYLIGHT
BEGIN:STANDARD
TZOFFSETFROM:-0600
TZOFFSETTO:-0700
TZNAME:MST
DTSTART:20201101T080000
END:STANDARD
END:VTIMEZONE
BEGIN:VEVENT
DTSTART;TZID=America/Denver:20200326T173000
DTEND;TZID=America/Denver:20200326T173000
DTSTAMP:20260425T184106
CREATED:20200110T203408Z
LAST-MODIFIED:20200325T212613Z
UID:58269-1585243800-1585243800@krtnradio.com
SUMMARY:Postponed: Diversity in the Coal Mines ~ Adult Reading Program ~ Carnegie Public Library
DESCRIPTION:Miners came here from all over the world to work and live together as neighbors\, and the families that stayed share that unique brand of diversity.
URL:https://krtnradio.com/wp/event/diversity-in-the-coal-mines-adult-reading-program-carnegie-public-library/
LOCATION:Trinidad Carnegie Public Library\, 120 S. Maple\, Trinidad\, CO\, 81082
CATEGORIES:Meetings
ATTACH;FMTTYPE=image/jpeg:https://krtnradio.com/wp/wp-content/uploads/2020/01/retro-image-of-a-man-dressed-in-business-clipart_csp10367010.jpg
END:VEVENT
END:VCALENDAR