BEGIN:VCALENDAR
VERSION:2.0
PRODID:-//KRTN Enchanted Air Radio - ECPv5.16.4.1//NONSGML v1.0//EN
CALSCALE:GREGORIAN
METHOD:PUBLISH
X-WR-CALNAME:KRTN Enchanted Air Radio
X-ORIGINAL-URL:https://krtnradio.com/wp
X-WR-CALDESC:Events for KRTN Enchanted Air Radio
BEGIN:VTIMEZONE
TZID:America/Denver
BEGIN:DAYLIGHT
TZOFFSETFROM:-0700
TZOFFSETTO:-0600
TZNAME:MDT
DTSTART:20230312T090000
END:DAYLIGHT
BEGIN:STANDARD
TZOFFSETFROM:-0600
TZOFFSETTO:-0700
TZNAME:MST
DTSTART:20231105T080000
END:STANDARD
END:VTIMEZONE
BEGIN:VEVENT
DTSTART;TZID=America/Denver:20230923T180000
DTEND;TZID=America/Denver:20230923T180000
DTSTAMP:20260425T183344
CREATED:20230906T162805Z
LAST-MODIFIED:20230906T162805Z
UID:85950-1695492000-1695492000@krtnradio.com
SUMMARY:Des Moines EMS Dinner and Dance
DESCRIPTION:
URL:https://krtnradio.com/wp/event/des-moines-ems-dinner-and-dance/
CATEGORIES:Area Events
END:VEVENT
END:VCALENDAR