BEGIN:VCALENDAR
VERSION:2.0
PRODID:-//KRTN Enchanted Air Radio - ECPv5.16.4.1//NONSGML v1.0//EN
CALSCALE:GREGORIAN
METHOD:PUBLISH
X-WR-CALNAME:KRTN Enchanted Air Radio
X-ORIGINAL-URL:https://krtnradio.com/wp
X-WR-CALDESC:Events for KRTN Enchanted Air Radio
BEGIN:VTIMEZONE
TZID:America/Denver
BEGIN:DAYLIGHT
TZOFFSETFROM:-0700
TZOFFSETTO:-0600
TZNAME:MDT
DTSTART:20200308T090000
END:DAYLIGHT
BEGIN:STANDARD
TZOFFSETFROM:-0600
TZOFFSETTO:-0700
TZNAME:MST
DTSTART:20201101T080000
END:STANDARD
END:VTIMEZONE
BEGIN:VEVENT
DTSTART;TZID=America/Denver:20201201T110000
DTEND;TZID=America/Denver:20201201T110000
DTSTAMP:20260424T033457
CREATED:20200730T195016Z
LAST-MODIFIED:20200730T195016Z
UID:65318-1606820400-1606820400@krtnradio.com
SUMMARY:December is Rotary International Family Month
DESCRIPTION: District #5520 \nEach month of the calendar year is celebrated in Rotary with a different theme with the exception of May. \nEach club throughout the Rotary world is encouraged to concentrate on programs to promote each of these months. \nRotary focuses on Community Service and promotes International Peace and Understanding. By celebrating each month and using these themes as a guide\, Rotarians can ensure that all of the various programs of Rotary are administered throughout the entire year. \nhttps://rotary5520.org/sitepage/membership
URL:https://krtnradio.com/wp/event/december-is-rotary-international-family-month-5/
LOCATION:K-Bobs Steakhouse\, 1228 S 2nd St\, Raton\, NM\, 87740\, United States
CATEGORIES:Meetings
ATTACH;FMTTYPE=image/jpeg:https://krtnradio.com/wp/wp-content/uploads/2013/12/rotary-club.jpg
END:VEVENT
END:VCALENDAR