BEGIN:VCALENDAR
VERSION:2.0
PRODID:-//KRTN Enchanted Air Radio - ECPv5.16.4.1//NONSGML v1.0//EN
CALSCALE:GREGORIAN
METHOD:PUBLISH
X-WR-CALNAME:KRTN Enchanted Air Radio
X-ORIGINAL-URL:https://krtnradio.com/wp
X-WR-CALDESC:Events for KRTN Enchanted Air Radio
BEGIN:VTIMEZONE
TZID:America/Denver
BEGIN:DAYLIGHT
TZOFFSETFROM:-0700
TZOFFSETTO:-0600
TZNAME:MDT
DTSTART:20240310T090000
END:DAYLIGHT
BEGIN:STANDARD
TZOFFSETFROM:-0600
TZOFFSETTO:-0700
TZNAME:MST
DTSTART:20241103T080000
END:STANDARD
END:VTIMEZONE
BEGIN:VEVENT
DTSTART;TZID=America/Denver:20240120T110000
DTEND;TZID=America/Denver:20240120T150000
DTSTAMP:20260425T105208
CREATED:20240110T192137Z
LAST-MODIFIED:20240110T192137Z
UID:87935-1705748400-1705762800@krtnradio.com
SUMMARY:Craft Fair In Trinidad\, CO
DESCRIPTION:
URL:https://krtnradio.com/wp/event/craft-fair-in-trinidad-co/
CATEGORIES:Area Events
END:VEVENT
END:VCALENDAR