BEGIN:VCALENDAR
VERSION:2.0
PRODID:-//KRTN Enchanted Air Radio - ECPv5.16.4.1//NONSGML v1.0//EN
CALSCALE:GREGORIAN
METHOD:PUBLISH
X-WR-CALNAME:KRTN Enchanted Air Radio
X-ORIGINAL-URL:https://krtnradio.com/wp
X-WR-CALDESC:Events for KRTN Enchanted Air Radio
BEGIN:VTIMEZONE
TZID:America/Denver
BEGIN:DAYLIGHT
TZOFFSETFROM:-0700
TZOFFSETTO:-0600
TZNAME:MDT
DTSTART:20170312T090000
END:DAYLIGHT
BEGIN:STANDARD
TZOFFSETFROM:-0600
TZOFFSETTO:-0700
TZNAME:MST
DTSTART:20171105T080000
END:STANDARD
END:VTIMEZONE
BEGIN:VEVENT
DTSTART;VALUE=DATE:20170218
DTEND;VALUE=DATE:20170219
DTSTAMP:20260425T193948
CREATED:20170203T173623Z
LAST-MODIFIED:20170203T173623Z
UID:32430-1487376000-1487462399@krtnradio.com
SUMMARY:Cowboy Sweetheart Ball:  Dinner & Dancing
DESCRIPTION:Take your Sweetheart out on February 18th to celebrate Valentine’s Day & have a ball! Cowboy Sweetheart Ball is Sat.\, Feb. 18th at the Raton Convention Center. Sponsored by the Colfax County Fair Association. \nMeal 6:30 pm. Mr. C’s BBQ\nSilent Auction 6:30 pm-9 pm with a lot of great items!\nLive auction 7:30 pm-8:30 pm with hunts\, fishing trips\, sleigh rides\, ½ beef\, bison meat\, taxidermy\, ½ ton livestock feed\, Angel Fire lodging\, ¾” base course\, rifle and scope\, 22 pistol\, show pigs & many more items.\nDance 9 pm-Midnight with Will Bannister & the Modern Day Ramblers \n\nAdult tickets will be entered in a drawing for a Henry Golden Boy or Silver Boy Rifle.\nTicket prices: Reserved tables for 8: $200\nAdult $30/ Youth 7 to 18 yrs $15/ 6 yrs & under $5\nDance Only: $15 \n\nThis is a benefit for the Colfax County Fair Building Committee – to finish the bathrooms and kitchen facility. Come have a great time!  \nFor tickets/tables contact Mesa Vista Veterinary Hospital 575-445-3912 or the Colfax County Extension Office 575-445-8071.
URL:https://krtnradio.com/wp/event/cowboy-sweetheart-ball-dinner-dancing/
LOCATION:Raton Convention Center\, 901 S 3rd\, Raton\, NM\, 87740\, United States
CATEGORIES:Area Events
ATTACH;FMTTYPE=image/jpeg:https://krtnradio.com/wp/wp-content/uploads/2017/02/sweetheart-dance-dinner.jpg
END:VEVENT
END:VCALENDAR