BEGIN:VCALENDAR
VERSION:2.0
PRODID:-//KRTN Enchanted Air Radio - ECPv5.16.4.1//NONSGML v1.0//EN
CALSCALE:GREGORIAN
METHOD:PUBLISH
X-WR-CALNAME:KRTN Enchanted Air Radio
X-ORIGINAL-URL:https://krtnradio.com/wp
X-WR-CALDESC:Events for KRTN Enchanted Air Radio
BEGIN:VTIMEZONE
TZID:America/Denver
BEGIN:DAYLIGHT
TZOFFSETFROM:-0700
TZOFFSETTO:-0600
TZNAME:MDT
DTSTART:20200308T090000
END:DAYLIGHT
BEGIN:STANDARD
TZOFFSETFROM:-0600
TZOFFSETTO:-0700
TZNAME:MST
DTSTART:20201101T080000
END:STANDARD
END:VTIMEZONE
BEGIN:VEVENT
DTSTART;TZID=America/Denver:20200924T153000
DTEND;TZID=America/Denver:20200924T173000
DTSTAMP:20260424T102412
CREATED:20200825T154154Z
LAST-MODIFIED:20200825T154154Z
UID:66209-1600961400-1600968600@krtnradio.com
SUMMARY:Cooking for Seniors ~Mt. Carmel Wellness & Community Center
DESCRIPTION:Cooking for Seniors\nFREE VIRTUAL COOKING CLASS (for people 60 and over)\nEvery Thursday in September 2020\n9/3 – 9/10 – 9/17 – 9/24\n3:30 pm – 5:30 pm \nPick-up FREE groceries from Mt. Carmel to recreate the recipe. \nAttend 3 out of 4 classes and get a free electric skillet. \nClick below to register:\nhttps://us02web.zoom.us/meeting/register/tZYtc–srD4iE9Beak5CX4lmBjEEKvOSKBB1 \nCall 719-845-4894 for more info.mtmtmt
URL:https://krtnradio.com/wp/event/cooking-for-seniors-mt-carmel-wellness-community-center-8/
LOCATION:Mt Carmel Health\, Wellness\, & Community Center\, Trinidad\, CO\, 81082\, United States
CATEGORIES:Meetings
ATTACH;FMTTYPE=image/jpeg:https://krtnradio.com/wp/wp-content/uploads/2020/08/118282929_3539310502798399_4847608697412605028_o.jpg
END:VEVENT
END:VCALENDAR