BEGIN:VCALENDAR
VERSION:2.0
PRODID:-//KRTN Enchanted Air Radio - ECPv5.16.4.1//NONSGML v1.0//EN
CALSCALE:GREGORIAN
METHOD:PUBLISH
X-WR-CALNAME:KRTN Enchanted Air Radio
X-ORIGINAL-URL:https://krtnradio.com/wp
X-WR-CALDESC:Events for KRTN Enchanted Air Radio
BEGIN:VTIMEZONE
TZID:America/Denver
BEGIN:DAYLIGHT
TZOFFSETFROM:-0700
TZOFFSETTO:-0600
TZNAME:MDT
DTSTART:20200308T090000
END:DAYLIGHT
BEGIN:STANDARD
TZOFFSETFROM:-0600
TZOFFSETTO:-0700
TZNAME:MST
DTSTART:20201101T080000
END:STANDARD
END:VTIMEZONE
BEGIN:VEVENT
DTSTART;TZID=America/Denver:20200507T160000
DTEND;TZID=America/Denver:20200507T170000
DTSTAMP:20260425T105213
CREATED:20200506T221702Z
LAST-MODIFIED:20200506T221702Z
UID:62733-1588867200-1588870800@krtnradio.com
SUMMARY:Cooking Conversations Virtual by Mt. Carmel Wellness & Community Center
DESCRIPTION:Cooking Conversations\nSwap recipes\, cooking tips and tricks \nThursdays at 4:00 pm \nRegister in advance for Cooking Conversations:\nhttps://us02web.zoom.us/meeting/register/tZcod-GrrDMqG9XBGc0_o_WLPHH4E9zUGycw \nAfter registering\, you will receive a confirmation email containing information about joining the meeting.
URL:https://krtnradio.com/wp/event/cooking-conversations-virtual-by-mt-carmel-wellness-community-center/
CATEGORIES:Meetings
ATTACH;FMTTYPE=image/jpeg:https://krtnradio.com/wp/wp-content/uploads/2020/05/Cooking-Conversations.jpg
END:VEVENT
END:VCALENDAR