BEGIN:VCALENDAR
VERSION:2.0
PRODID:-//KRTN Enchanted Air Radio - ECPv5.16.4.1//NONSGML v1.0//EN
CALSCALE:GREGORIAN
METHOD:PUBLISH
X-WR-CALNAME:KRTN Enchanted Air Radio
X-ORIGINAL-URL:https://krtnradio.com/wp
X-WR-CALDESC:Events for KRTN Enchanted Air Radio
BEGIN:VTIMEZONE
TZID:America/Denver
BEGIN:DAYLIGHT
TZOFFSETFROM:-0700
TZOFFSETTO:-0600
TZNAME:MDT
DTSTART:20200308T090000
END:DAYLIGHT
BEGIN:STANDARD
TZOFFSETFROM:-0600
TZOFFSETTO:-0700
TZNAME:MST
DTSTART:20201101T080000
END:STANDARD
END:VTIMEZONE
BEGIN:VEVENT
DTSTART;VALUE=DATE:20200622
DTEND;VALUE=DATE:20200623
DTSTAMP:20260425T094333
CREATED:20200416T230415Z
LAST-MODIFIED:20200416T230415Z
UID:62291-1592784000-1592870399@krtnradio.com
SUMMARY:Conserving Vintage Firearms ~The Heritage School at Trinidad State
DESCRIPTION:Students will be introduced to the primary mainstream infantry rifles common during the 100+ year glory of the British Empire including the Brown Bess\, Enfield Pattern 53k Snider-Enfield cartridge conversion of the P53\, Martini-Henry\, and Lee-Enfield. The 40-hour class is $400. For complete course information\, contact Donna Haddow at 719-846-5724 or donna.haddow@trinidadstate.edu \nJun 22 at 8 AM – Jun 26 at 5 PM \nThe Heritage School at Trinidad State\n600 Prospect St\, Trinidad\, Colorado 81082
URL:https://krtnradio.com/wp/event/conserving-vintage-firearms-the-heritage-school-at-trinidad-state/
LOCATION:Heritage School at TSJC\, 600 Prospect\, Trinidad\, CO\, 81082
CATEGORIES:Meetings
ATTACH;FMTTYPE=image/jpeg:https://krtnradio.com/wp/wp-content/uploads/2019/11/Gun-Show-clip-art.jpg
END:VEVENT
END:VCALENDAR