BEGIN:VCALENDAR
VERSION:2.0
PRODID:-//KRTN Enchanted Air Radio - ECPv5.16.4.1//NONSGML v1.0//EN
CALSCALE:GREGORIAN
METHOD:PUBLISH
X-WR-CALNAME:KRTN Enchanted Air Radio
X-ORIGINAL-URL:https://krtnradio.com/wp
X-WR-CALDESC:Events for KRTN Enchanted Air Radio
BEGIN:VTIMEZONE
TZID:America/Denver
BEGIN:DAYLIGHT
TZOFFSETFROM:-0700
TZOFFSETTO:-0600
TZNAME:MDT
DTSTART:20240310T090000
END:DAYLIGHT
BEGIN:STANDARD
TZOFFSETFROM:-0600
TZOFFSETTO:-0700
TZNAME:MST
DTSTART:20241103T080000
END:STANDARD
END:VTIMEZONE
BEGIN:VEVENT
DTSTART;TZID=America/Denver:20240418T200000
DTEND;TZID=America/Denver:20240418T220000
DTSTAMP:20260423T201205
CREATED:20240403T221531Z
LAST-MODIFIED:20240403T221531Z
UID:89795-1713470400-1713477600@krtnradio.com
SUMMARY:Comedians Billy Wayne Davis and Matt Davis Live in Raton
DESCRIPTION:GET TICKETS HERE
URL:https://krtnradio.com/wp/event/comedians-billy-wayne-davis-and-matt-davis-live-in-raton/
CATEGORIES:Area Events
END:VEVENT
END:VCALENDAR