BEGIN:VCALENDAR
VERSION:2.0
PRODID:-//KRTN Enchanted Air Radio - ECPv5.16.4.1//NONSGML v1.0//EN
CALSCALE:GREGORIAN
METHOD:PUBLISH
X-WR-CALNAME:KRTN Enchanted Air Radio
X-ORIGINAL-URL:https://krtnradio.com/wp
X-WR-CALDESC:Events for KRTN Enchanted Air Radio
BEGIN:VTIMEZONE
TZID:America/Denver
BEGIN:DAYLIGHT
TZOFFSETFROM:-0700
TZOFFSETTO:-0600
TZNAME:MDT
DTSTART:20200308T090000
END:DAYLIGHT
BEGIN:STANDARD
TZOFFSETFROM:-0600
TZOFFSETTO:-0700
TZNAME:MST
DTSTART:20201101T080000
END:STANDARD
END:VTIMEZONE
BEGIN:VEVENT
DTSTART;TZID=America/Denver:20200917T180000
DTEND;TZID=America/Denver:20200917T190000
DTSTAMP:20260424T121106
CREATED:20200910T213816Z
LAST-MODIFIED:20200910T213816Z
UID:66891-1600365600-1600369200@krtnradio.com
SUMMARY:College of Agricultural\, Consumer and Environmental Sciences Prairie Dog Management Webinar
DESCRIPTION:Thursday\, September 17\, 2020\, 6 PM -7 PM\nVirtual Workshop\nNMSU Lea County Extension Service will be hosting a webinar to discuss\ndifferent Strategies and Techniques in Managing Prairie Dogs. Our presenter will\nbe NMSU Extension Wildlife Specialist Dr. Sam Smallidge. This webinar will be\noffered via Zoom. You may register at the following link: \nhttps://nmsu.zoom.us/meeting/register/tJEuceysrjopH9ElWkDAIwnVjwXJ1IkWn-O8 \nIf you are an individual with a disability who is in need of auxiliary aid or service to participate\,\nplease contact Kayla Hinrichs by September 14th at (575) 396-2819 or kdawn07@nmsu.edu. \nLea County Extension Service | 575-396-2819 \nNew Mexico State University is an equal opportunity/affirmative action employer and educator.\nNMSU and the U.S. Department of Agriculture cooperating.
URL:https://krtnradio.com/wp/event/college-of-agricultural-consumer-and-environmental-sciences-prairie-dog-management-webinar/
CATEGORIES:Meetings
ATTACH;FMTTYPE=image/jpeg:https://krtnradio.com/wp/wp-content/uploads/2020/08/prairie-dog-clip-art.jpg
END:VEVENT
END:VCALENDAR