BEGIN:VCALENDAR
VERSION:2.0
PRODID:-//KRTN Enchanted Air Radio - ECPv5.16.4.1//NONSGML v1.0//EN
CALSCALE:GREGORIAN
METHOD:PUBLISH
X-WR-CALNAME:KRTN Enchanted Air Radio
X-ORIGINAL-URL:https://krtnradio.com/wp
X-WR-CALDESC:Events for KRTN Enchanted Air Radio
BEGIN:VTIMEZONE
TZID:America/Denver
BEGIN:DAYLIGHT
TZOFFSETFROM:-0700
TZOFFSETTO:-0600
TZNAME:MDT
DTSTART:20200308T090000
END:DAYLIGHT
BEGIN:STANDARD
TZOFFSETFROM:-0600
TZOFFSETTO:-0700
TZNAME:MST
DTSTART:20201101T080000
END:STANDARD
END:VTIMEZONE
BEGIN:VEVENT
DTSTART;TZID=America/Denver:20200924T180000
DTEND;TZID=America/Denver:20200924T190000
DTSTAMP:20260424T102349
CREATED:20200910T214925Z
LAST-MODIFIED:20200910T214925Z
UID:66896-1600970400-1600974000@krtnradio.com
SUMMARY:College of Agricultural\, Consumer and Environmental Sciences Gopher Control -- Webinar
DESCRIPTION:Thursday\, September 24\, 2020\, 6 PM -7 PM\nVirtual Workshop\nNMSU Lea County Extension Service will be hosting a webinar to demonstrate\nand answer questions on ‘Gopher Control’ for here in New Mexico. Our\npresenter will be NMSU Extension Wildlife Specialist Dr. Sam Smallidge. This\nwebinar will be offered via Zoom. You may register at the following link: \nhttps://nmsu.zoom.us/meeting/register/tJEoc-GtqTsiH9ShS1_WyuIZP_emrQDA6lHw \nIf you are an individual with a disability who is in need of auxiliary aid or service to\nparticipate\, please contact Kayla Hinrichs by September 14th at (575) 396-2819 or\nkdawn07@nmsu.edu \nLea County Extension Service | 575-396-2819
URL:https://krtnradio.com/wp/event/college-of-agricultural-consumer-and-environmental-sciences-gopher-control-webinar/
CATEGORIES:Meetings
ATTACH;FMTTYPE=image/jpeg:https://krtnradio.com/wp/wp-content/uploads/2020/09/gopher-clip-art.jpg
END:VEVENT
END:VCALENDAR