BEGIN:VCALENDAR
VERSION:2.0
PRODID:-//KRTN Enchanted Air Radio - ECPv5.16.4.1//NONSGML v1.0//EN
CALSCALE:GREGORIAN
METHOD:PUBLISH
X-WR-CALNAME:KRTN Enchanted Air Radio
X-ORIGINAL-URL:https://krtnradio.com/wp
X-WR-CALDESC:Events for KRTN Enchanted Air Radio
BEGIN:VTIMEZONE
TZID:America/Denver
BEGIN:DAYLIGHT
TZOFFSETFROM:-0700
TZOFFSETTO:-0600
TZNAME:MDT
DTSTART:20240310T090000
END:DAYLIGHT
BEGIN:STANDARD
TZOFFSETFROM:-0600
TZOFFSETTO:-0700
TZNAME:MST
DTSTART:20241103T080000
END:STANDARD
END:VTIMEZONE
BEGIN:VEVENT
DTSTART;TZID=America/Denver:20240427T190000
DTEND;TZID=America/Denver:20240427T220000
DTSTAMP:20260423T134459
CREATED:20240403T165639Z
LAST-MODIFIED:20240403T165639Z
UID:89744-1714244400-1714255200@krtnradio.com
SUMMARY:Colfax Tavern & Diner Events: Live Music by: Nash Daniels & Orion Burroughs
DESCRIPTION:
URL:https://krtnradio.com/wp/event/colfax-tavern-diner-events-live-music-by-nash-daniels-orion-burroughs/
CATEGORIES:Area Events
END:VEVENT
END:VCALENDAR