BEGIN:VCALENDAR
VERSION:2.0
PRODID:-//KRTN Enchanted Air Radio - ECPv5.16.4.1//NONSGML v1.0//EN
CALSCALE:GREGORIAN
METHOD:PUBLISH
X-WR-CALNAME:KRTN Enchanted Air Radio
X-ORIGINAL-URL:https://krtnradio.com/wp
X-WR-CALDESC:Events for KRTN Enchanted Air Radio
BEGIN:VTIMEZONE
TZID:America/Denver
BEGIN:DAYLIGHT
TZOFFSETFROM:-0700
TZOFFSETTO:-0600
TZNAME:MDT
DTSTART:20240310T090000
END:DAYLIGHT
BEGIN:STANDARD
TZOFFSETFROM:-0600
TZOFFSETTO:-0700
TZNAME:MST
DTSTART:20241103T080000
END:STANDARD
END:VTIMEZONE
BEGIN:VEVENT
DTSTART;TZID=America/Denver:20240425T183000
DTEND;TZID=America/Denver:20240425T203000
DTSTAMP:20260423T182512
CREATED:20240403T165425Z
LAST-MODIFIED:20240403T165425Z
UID:89742-1714069800-1714077000@krtnradio.com
SUMMARY:Colfax Tavern & Diner Events: Dinner Music by: Darci Carlson
DESCRIPTION:
URL:https://krtnradio.com/wp/event/colfax-tavern-diner-events-dinner-music-by-darci-carlson/
CATEGORIES:Area Events
END:VEVENT
END:VCALENDAR