BEGIN:VCALENDAR
VERSION:2.0
PRODID:-//KRTN Enchanted Air Radio - ECPv5.16.4.1//NONSGML v1.0//EN
CALSCALE:GREGORIAN
METHOD:PUBLISH
X-WR-CALNAME:KRTN Enchanted Air Radio
X-ORIGINAL-URL:https://krtnradio.com/wp
X-WR-CALDESC:Events for KRTN Enchanted Air Radio
BEGIN:VTIMEZONE
TZID:America/Denver
BEGIN:DAYLIGHT
TZOFFSETFROM:-0700
TZOFFSETTO:-0600
TZNAME:MDT
DTSTART:20250309T090000
END:DAYLIGHT
BEGIN:STANDARD
TZOFFSETFROM:-0600
TZOFFSETTO:-0700
TZNAME:MST
DTSTART:20251102T080000
END:STANDARD
END:VTIMEZONE
BEGIN:VEVENT
DTSTART;TZID=America/Denver:20250917T170000
DTEND;TZID=America/Denver:20250917T170000
DTSTAMP:20260422T224108
CREATED:20250910T215247Z
LAST-MODIFIED:20250910T215247Z
UID:97433-1758128400-1758128400@krtnradio.com
SUMMARY:Colfax Democratic Party Regular Meeting Wednesday\, September 17\, 2025 at KBob's at 5:00 pm.
DESCRIPTION:Colfax Democratic Party Regular Meeting Wednesday\, September 17\, 2025 at KBob’s at 5:00 pm.
URL:https://krtnradio.com/wp/event/colfax-democratic-party-regular-meeting-wednesday-september-17-2025-at-kbobs-at-500-pm/
CATEGORIES:Meetings
ATTACH;FMTTYPE=image/jpeg:https://krtnradio.com/wp/wp-content/uploads/2015/02/democratic-party.jpg
END:VEVENT
END:VCALENDAR