BEGIN:VCALENDAR
VERSION:2.0
PRODID:-//KRTN Enchanted Air Radio - ECPv5.16.4.1//NONSGML v1.0//EN
CALSCALE:GREGORIAN
METHOD:PUBLISH
X-WR-CALNAME:KRTN Enchanted Air Radio
X-ORIGINAL-URL:https://krtnradio.com/wp
X-WR-CALDESC:Events for KRTN Enchanted Air Radio
BEGIN:VTIMEZONE
TZID:America/Denver
BEGIN:DAYLIGHT
TZOFFSETFROM:-0700
TZOFFSETTO:-0600
TZNAME:MDT
DTSTART:20230312T090000
END:DAYLIGHT
BEGIN:STANDARD
TZOFFSETFROM:-0600
TZOFFSETTO:-0700
TZNAME:MST
DTSTART:20231105T080000
END:STANDARD
END:VTIMEZONE
BEGIN:VEVENT
DTSTART;TZID=America/Denver:20231019T100000
DTEND;TZID=America/Denver:20231019T150000
DTSTAMP:20260425T165950
CREATED:20231011T181211Z
LAST-MODIFIED:20231011T181211Z
UID:86676-1697709600-1697727600@krtnradio.com
SUMMARY:Colfax County Income Support Division Rapid Hire Event
DESCRIPTION:The Income Support Division in Colfax County will be having a rapid hire event at (1233 Whittier St. Raton\, NM 87740) on October 19\, 2023 from 10:00AM-3:00PM
URL:https://krtnradio.com/wp/event/colfax-county-income-support-division-rapid-hire-event/
CATEGORIES:Area Events
ATTACH;FMTTYPE=image/jpeg:https://krtnradio.com/wp/wp-content/uploads/2023/10/Screenshot-2023-10-11-120648-e1697047817663.jpg
END:VEVENT
END:VCALENDAR