BEGIN:VCALENDAR
VERSION:2.0
PRODID:-//KRTN Enchanted Air Radio - ECPv5.16.4.1//NONSGML v1.0//EN
CALSCALE:GREGORIAN
METHOD:PUBLISH
X-WR-CALNAME:KRTN Enchanted Air Radio
X-ORIGINAL-URL:https://krtnradio.com/wp
X-WR-CALDESC:Events for KRTN Enchanted Air Radio
BEGIN:VTIMEZONE
TZID:America/Denver
BEGIN:DAYLIGHT
TZOFFSETFROM:-0700
TZOFFSETTO:-0600
TZNAME:MDT
DTSTART:20250309T090000
END:DAYLIGHT
BEGIN:STANDARD
TZOFFSETFROM:-0600
TZOFFSETTO:-0700
TZNAME:MST
DTSTART:20251102T080000
END:STANDARD
END:VTIMEZONE
BEGIN:VEVENT
DTSTART;TZID=America/Denver:20250304T100000
DTEND;TZID=America/Denver:20250304T150000
DTSTAMP:20260424T084112
CREATED:20250115T214428Z
LAST-MODIFIED:20250115T230402Z
UID:93706-1741082400-1741100400@krtnradio.com
SUMMARY:Colfax County Health Council Brunch on Mental health
DESCRIPTION:
URL:https://krtnradio.com/wp/event/colfax-county-health-council-brunch-on-mental-health/
CATEGORIES:Area Events
END:VEVENT
END:VCALENDAR