BEGIN:VCALENDAR
VERSION:2.0
PRODID:-//KRTN Enchanted Air Radio - ECPv5.16.4.1//NONSGML v1.0//EN
CALSCALE:GREGORIAN
METHOD:PUBLISH
X-WR-CALNAME:KRTN Enchanted Air Radio
X-ORIGINAL-URL:https://krtnradio.com/wp
X-WR-CALDESC:Events for KRTN Enchanted Air Radio
BEGIN:VTIMEZONE
TZID:America/Denver
BEGIN:DAYLIGHT
TZOFFSETFROM:-0700
TZOFFSETTO:-0600
TZNAME:MDT
DTSTART:20200308T090000
END:DAYLIGHT
BEGIN:STANDARD
TZOFFSETFROM:-0600
TZOFFSETTO:-0700
TZNAME:MST
DTSTART:20201101T080000
END:STANDARD
END:VTIMEZONE
BEGIN:VEVENT
DTSTART;TZID=America/Denver:20200824T090000
DTEND;TZID=America/Denver:20200824T090000
DTSTAMP:20260424T185239
CREATED:20200818T184743Z
LAST-MODIFIED:20200818T184743Z
UID:66055-1598259600-1598259600@krtnradio.com
SUMMARY:Colfax County Board of Commissioners Meeting
DESCRIPTION:                                                         REGULAR MEETING \nAugust 24\, 2020 \nAGENDA \nPUBLIC NOTICE IS HEREBY GIVEN that the Colfax County Board of Commissioners will meet in Regular Session on Monday\, August 24\, 2020\, at 9:00 A.M.\, in the Commission Chambers\, 3rd floor at the Colfax County Building\, 230 North 3rd St.\, Raton\, NM for the following: \nThis agenda can be viewed at the Colfax County Website at www.co.colfax.nm.us \n\n\nCall to Order \n\n\nPledge of Allegiance \n\n\nSalute to the New Mexico Flag \n\n\nApprove Agenda \n\n\nApprove Regular Meeting August 10\, 2020  \n\n\nRecognize Visitors \n\n\nPublic Comment \n\n\nDiscuss/Approve – Indigent Care Claims \n\n\nPresentation – Merit SI Potential Wapiti Energy Solar Project \n\n\nDiscuss/Action – Resolution #2020-31\, Cooperative EDA\, CARES Act\, Application in Conjunction with the City of Raton \n\n\nDiscuss/Action – Resolution #2020-30\, Declare September Suicide Awareness Month \n\n\nDiscuss/Action – Award Contract for RFB #2020-05\, Hauling of Gravel for Moreno Valley  \n\n\nDiscuss/Action – Award RFB #2020-06\, Gardner Bridge Replacement  \n\n\nDiscuss/Action – Award Contract for RFB #2020-07\, Purchase of 3” Minus Gravel for Moreno Valley \n\n\nDiscuss/Action – Professional Services Contract with the Eighth Judicial District Attorney’s Office \n\n\nDiscuss/Action – Dispatch Agreement between the City of Raton and Colfax County for Dispatch Services  \n\n\nDiscuss/Action – E-911/Zoning Job Description  \n\n\nDiscuss – Presentation of Colfax County ICIP Priorities \n\n\nCommissioners’ Docket \n\n\nManager’s Docket \n\n\nAdjourn \n\n\nDone this 18th day of August 2020 \nSalute to the New Mexico Flag – “I salute the flag of the State of New Mexico and the Zia symbol of perfect friendship among united cultures” \n 
URL:https://krtnradio.com/wp/event/colfax-county-board-of-commissioners-meeting-2/
CATEGORIES:Meetings
ATTACH;FMTTYPE=image/png:https://krtnradio.com/wp/wp-content/uploads/2017/03/colfax-county-logo.png
END:VEVENT
END:VCALENDAR