BEGIN:VCALENDAR
VERSION:2.0
PRODID:-//KRTN Enchanted Air Radio - ECPv5.16.4.1//NONSGML v1.0//EN
CALSCALE:GREGORIAN
METHOD:PUBLISH
X-WR-CALNAME:KRTN Enchanted Air Radio
X-ORIGINAL-URL:https://krtnradio.com/wp
X-WR-CALDESC:Events for KRTN Enchanted Air Radio
BEGIN:VTIMEZONE
TZID:America/Denver
BEGIN:DAYLIGHT
TZOFFSETFROM:-0700
TZOFFSETTO:-0600
TZNAME:MDT
DTSTART:20200308T090000
END:DAYLIGHT
BEGIN:STANDARD
TZOFFSETFROM:-0600
TZOFFSETTO:-0700
TZNAME:MST
DTSTART:20201101T080000
END:STANDARD
END:VTIMEZONE
BEGIN:VEVENT
DTSTART;TZID=America/Denver:20200801T100000
DTEND;TZID=America/Denver:20200801T140000
DTSTAMP:20260425T042903
CREATED:20200730T203641Z
LAST-MODIFIED:20200730T203641Z
UID:65569-1596276000-1596290400@krtnradio.com
SUMMARY:CNMW OPEN HANDS THRIFT STORE SHED SALE
DESCRIPTION:CUMW Open Hands Thrift Store \nin Cimmaron\, New Mexico \nwill be having a sale at the sheds behind the church on Saturday\, August 1st\, 2020. \nThe sale is from 10:00a.m.- 2:00p.m. \nThere are a lot of great items to be found at the sheds.  Come see! \nI
URL:https://krtnradio.com/wp/event/cnmw-open-hands-thrift-store-shed-sale/
LOCATION:Cimarron\, NM\, Cimarron\, NM
CATEGORIES:Area Events
ATTACH;FMTTYPE=image/jpeg:https://krtnradio.com/wp/wp-content/uploads/2015/05/rummage-sale.jpg
END:VEVENT
END:VCALENDAR