BEGIN:VCALENDAR
VERSION:2.0
PRODID:-//KRTN Enchanted Air Radio - ECPv5.16.4.1//NONSGML v1.0//EN
CALSCALE:GREGORIAN
METHOD:PUBLISH
X-WR-CALNAME:KRTN Enchanted Air Radio
X-ORIGINAL-URL:https://krtnradio.com/wp
X-WR-CALDESC:Events for KRTN Enchanted Air Radio
BEGIN:VTIMEZONE
TZID:America/Denver
BEGIN:DAYLIGHT
TZOFFSETFROM:-0700
TZOFFSETTO:-0600
TZNAME:MDT
DTSTART:20180311T090000
END:DAYLIGHT
BEGIN:STANDARD
TZOFFSETFROM:-0600
TZOFFSETTO:-0700
TZNAME:MST
DTSTART:20181104T080000
END:STANDARD
END:VTIMEZONE
BEGIN:VEVENT
DTSTART;TZID=America/Denver:20180926T190000
DTEND;TZID=America/Denver:20180926T213000
DTSTAMP:20260424T141158
CREATED:20180914T191340Z
LAST-MODIFIED:20180914T191340Z
UID:43281-1537988400-1537997400@krtnradio.com
SUMMARY:Classic Night @ the Movies: benefits Christian Motorcycle Association
DESCRIPTION:War Horse \nSet against a sweeping canvas of rural England and Europe during the First World War\, War Horse begins with the remarkable friendship between a horse named Joey and a young man called Albert\, who tames and trains him. When they are forcefully parted\, the film follows the extraordinary journey of the horse as he moves through the war\, changing and inspiring the lives of all those he meets-British cavalry\, German soldiers\, and a French farmer and his granddaughter-before the story reaches its emotional climax in the heart of No Man’s Land. The First World War is experienced through the journey of this horse-an odyssey of joy and sorrow\, passionate friendship and high adventure. –(C) Dreamworks\nRating: PG-13 (for intense sequences of war violence)\nGenre: Action & Adventure\, Drama\nDirected By: Steven Spielberg\nWritten By: Richard Curtis\, Lee Hall\nIn Theaters: Dec 25\, 2011 Wide\nOn Disc/Streaming: Apr 3\, 2012\nBox Office: $79\,883\,359\nRuntime: 146 minutes\nStudio: Walt Disney Pictures \n*source https://www.rottentomatoes.com/m/war_horse
URL:https://krtnradio.com/wp/event/classic-night-the-movies-benefits-christian-motorcycle-association/
LOCATION:El Raton Theater\, 113 N 2nd\, Raton\, NM\, 87740\, United States
CATEGORIES:Area Events
ATTACH;FMTTYPE=image/jpeg:https://krtnradio.com/wp/wp-content/uploads/2018/09/warhorsemovie.jpg
END:VEVENT
END:VCALENDAR