BEGIN:VCALENDAR
VERSION:2.0
PRODID:-//KRTN Enchanted Air Radio - ECPv5.16.4.1//NONSGML v1.0//EN
CALSCALE:GREGORIAN
METHOD:PUBLISH
X-WR-CALNAME:KRTN Enchanted Air Radio
X-ORIGINAL-URL:https://krtnradio.com/wp
X-WR-CALDESC:Events for KRTN Enchanted Air Radio
BEGIN:VTIMEZONE
TZID:America/Denver
BEGIN:DAYLIGHT
TZOFFSETFROM:-0700
TZOFFSETTO:-0600
TZNAME:MDT
DTSTART:20160313T090000
END:DAYLIGHT
BEGIN:STANDARD
TZOFFSETFROM:-0600
TZOFFSETTO:-0700
TZNAME:MST
DTSTART:20161106T080000
END:STANDARD
END:VTIMEZONE
BEGIN:VEVENT
DTSTART;VALUE=DATE:20161228
DTEND;VALUE=DATE:20161229
DTSTAMP:20260424T112522
CREATED:20161213T181917Z
LAST-MODIFIED:20161213T182827Z
UID:31650-1482883200-1482969599@krtnradio.com
SUMMARY:Classic Movie Night: The Grinch (2000)
DESCRIPTION:Classic Night at the Movies presents Dr. Seuss’ How the Grinch Stole Christmas (The Grinch with Jim Carrey\, 2000) on the big screen Wednesday\, December 28th\, 7 pm at El Raton. FREE!!  Donations gratefully accepted for Alternatives To Violence. Sponsored by KRTN\, Raton Natural Gas and El Raton Movie Theater.\n  \nDr. Seuss’ How the Grinch Stole Christmas (The Grinch) is a 2000 American comedy film directed by Ron Howard based on the 1957 story of the same name by Dr. Seuss. It was the first Dr. Seuss book to be adapted into a full-length feature film. \nThe film was produced by Howard and Brian Grazer\, and starring Jim Carrey\, Jeffrey Tambor\, Christine Baranski\, Bill Irwin\, Molly Shannon. \nThe Grinch spent 4 weeks as the No. 1 film in the United States. The Grinch is the 2nd highest-grossing holiday film of all time (with Home Alone being the first). It won the Academy Award for Best Makeup\, and was also nominated for Best Art Direction and Best Costume Design. \n\nAlternatives to Violence\, Inc. is dedicated to the prevention\, intervention and treatment of all forms of violence and advocates for freedom from violence for all individuals.
URL:https://krtnradio.com/wp/event/classic-movie-night-the-grinch-2000/
LOCATION:El Raton Theater\, 113 N 2nd\, Raton\, NM\, 87740\, United States
CATEGORIES:Area Events
ATTACH;FMTTYPE=image/jpeg:https://krtnradio.com/wp/wp-content/uploads/2016/12/grinch-poster.jpg
ORGANIZER;CN="KRTN%20Radio":MAILTO:krtntraffic@bacavalley.com
END:VEVENT
END:VCALENDAR