BEGIN:VCALENDAR
VERSION:2.0
PRODID:-//KRTN Enchanted Air Radio - ECPv5.16.4.1//NONSGML v1.0//EN
CALSCALE:GREGORIAN
METHOD:PUBLISH
X-WR-CALNAME:KRTN Enchanted Air Radio
X-ORIGINAL-URL:https://krtnradio.com/wp
X-WR-CALDESC:Events for KRTN Enchanted Air Radio
BEGIN:VTIMEZONE
TZID:America/Denver
BEGIN:DAYLIGHT
TZOFFSETFROM:-0700
TZOFFSETTO:-0600
TZNAME:MDT
DTSTART:20200308T090000
END:DAYLIGHT
BEGIN:STANDARD
TZOFFSETFROM:-0600
TZOFFSETTO:-0700
TZNAME:MST
DTSTART:20201101T080000
END:STANDARD
END:VTIMEZONE
BEGIN:VEVENT
DTSTART;TZID=America/Denver:20200328T180000
DTEND;TZID=America/Denver:20200328T180000
DTSTAMP:20260425T184127
CREATED:20200218T171942Z
LAST-MODIFIED:20200318T221943Z
UID:60203-1585418400-1585418400@krtnradio.com
SUMMARY:Postponed: City of Champions Banquet
DESCRIPTION:MARCH 28TH\, SATURDAY\, 6PM\, \nCity of Champions Banquet \nHosted by Trinidad\nCommunity Foundation\, \nAR Mitchel Museum of Art- 150 E. Main\, \nCatered by So Tasty\, \nTickets $50\, \nCorporate tables available. \nContact Anita Flores for tickets at 719-846-5940
URL:https://krtnradio.com/wp/event/city-of-champions-banquet/
LOCATION:AR Mitchell Museum\, 150 E Main St\, Trinidad\, CO\, 81082
CATEGORIES:Area Events
ATTACH;FMTTYPE=image/png:https://krtnradio.com/wp/wp-content/uploads/2019/09/celebration-clipart-adult-birthday-celebration-clipart-1.png
END:VEVENT
END:VCALENDAR