BEGIN:VCALENDAR
VERSION:2.0
PRODID:-//KRTN Enchanted Air Radio - ECPv5.16.4.1//NONSGML v1.0//EN
CALSCALE:GREGORIAN
METHOD:PUBLISH
X-WR-CALNAME:KRTN Enchanted Air Radio
X-ORIGINAL-URL:https://krtnradio.com/wp
X-WR-CALDESC:Events for KRTN Enchanted Air Radio
BEGIN:VTIMEZONE
TZID:America/Denver
BEGIN:DAYLIGHT
TZOFFSETFROM:-0700
TZOFFSETTO:-0600
TZNAME:MDT
DTSTART:20200308T090000
END:DAYLIGHT
BEGIN:STANDARD
TZOFFSETFROM:-0600
TZOFFSETTO:-0700
TZNAME:MST
DTSTART:20201101T080000
END:STANDARD
END:VTIMEZONE
BEGIN:VEVENT
DTSTART;TZID=America/Denver:20200426T110000
DTEND;TZID=America/Denver:20200426T110000
DTSTAMP:20260425T122044
CREATED:20200424T220430Z
LAST-MODIFIED:20200424T220430Z
UID:62492-1587898800-1587898800@krtnradio.com
SUMMARY:Cimarron First Baptist Church is having Drive-In Service
DESCRIPTION:Cimarron First Baptist Church is having Drive-In service at 11:00 am and is live on Facebook. \nPlease join us for worship. \nhttps://www.facebook.com/Cimarron-First-Baptist-Church-107906615969110/
URL:https://krtnradio.com/wp/event/cimarron-first-baptist-church-is-having-drive-in-service/
CATEGORIES:Meetings
ATTACH;FMTTYPE=image/jpeg:https://krtnradio.com/wp/wp-content/uploads/2020/04/Cimarron-First-Baptist-Church.jpg
END:VEVENT
END:VCALENDAR