BEGIN:VCALENDAR
VERSION:2.0
PRODID:-//KRTN Enchanted Air Radio - ECPv5.16.4.1//NONSGML v1.0//EN
CALSCALE:GREGORIAN
METHOD:PUBLISH
X-WR-CALNAME:KRTN Enchanted Air Radio
X-ORIGINAL-URL:https://krtnradio.com/wp
X-WR-CALDESC:Events for KRTN Enchanted Air Radio
BEGIN:VTIMEZONE
TZID:America/Denver
BEGIN:DAYLIGHT
TZOFFSETFROM:-0700
TZOFFSETTO:-0600
TZNAME:MDT
DTSTART:20200308T090000
END:DAYLIGHT
BEGIN:STANDARD
TZOFFSETFROM:-0600
TZOFFSETTO:-0700
TZNAME:MST
DTSTART:20201101T080000
END:STANDARD
END:VTIMEZONE
BEGIN:VEVENT
DTSTART;TZID=America/Denver:20200822T070000
DTEND;TZID=America/Denver:20200822T190000
DTSTAMP:20260424T204346
CREATED:20191223T184749Z
LAST-MODIFIED:20191223T184749Z
UID:57493-1598079600-1598122800@krtnradio.com
SUMMARY:Cimarron Challenge 2020
DESCRIPTION:65 and 78 mile gravel routes through US Forest Service land in the spectacular and remote Valle Vidal unit of the Carson National Forest. The ride also affords the opportunity to transit part of Philmont Scout Ranch. The views alone will leave you breathless! \n2019 Results \n \n*Jamie Whiteside (plate number 008) and Tim Whiteside (009) who finished the short course together but are not listed in the results.
URL:https://krtnradio.com/wp/event/cimarron-challenge-2020/
LOCATION:Cimarron\, NM\, Cimarron\, NM
CATEGORIES:Sports Events
ATTACH;FMTTYPE=image/jpeg:https://krtnradio.com/wp/wp-content/uploads/2019/12/Cimarron-Challenge-LOGO.jpg
END:VEVENT
END:VCALENDAR