BEGIN:VCALENDAR
VERSION:2.0
PRODID:-//KRTN Enchanted Air Radio - ECPv5.16.4.1//NONSGML v1.0//EN
CALSCALE:GREGORIAN
METHOD:PUBLISH
X-WR-CALNAME:KRTN Enchanted Air Radio
X-ORIGINAL-URL:https://krtnradio.com/wp
X-WR-CALDESC:Events for KRTN Enchanted Air Radio
BEGIN:VTIMEZONE
TZID:America/Denver
BEGIN:DAYLIGHT
TZOFFSETFROM:-0700
TZOFFSETTO:-0600
TZNAME:MDT
DTSTART:20200308T090000
END:DAYLIGHT
BEGIN:STANDARD
TZOFFSETFROM:-0600
TZOFFSETTO:-0700
TZNAME:MST
DTSTART:20201101T080000
END:STANDARD
END:VTIMEZONE
BEGIN:VEVENT
DTSTART;VALUE=DATE:20200224
DTEND;VALUE=DATE:20200225
DTSTAMP:20260425T175112
CREATED:20200205T164416Z
LAST-MODIFIED:20200205T164416Z
UID:59660-1582502400-1582588799@krtnradio.com
SUMMARY:Cimarron Cemetery Board Meeting
DESCRIPTION:The January 27th meeting went well. The\nupcoming plans are to place section signs for\nindividuals can find their loved ones plot\nlocations easily. The members will be doing a\nwalk through the cemetery to identify placements\nand verify records. Next meeting will be\nFebruary 24th at noon at the Village Hall.
URL:https://krtnradio.com/wp/event/cimarron-cemetery-board-meeting/
LOCATION:Cimarron\, NM\, Cimarron\, NM
CATEGORIES:Meetings
ATTACH;FMTTYPE=image/jpeg:https://krtnradio.com/wp/wp-content/uploads/2019/03/Cimarron.jpg
END:VEVENT
END:VCALENDAR