BEGIN:VCALENDAR
VERSION:2.0
PRODID:-//KRTN Enchanted Air Radio - ECPv5.16.4.1//NONSGML v1.0//EN
CALSCALE:GREGORIAN
METHOD:PUBLISH
X-WR-CALNAME:KRTN Enchanted Air Radio
X-ORIGINAL-URL:https://krtnradio.com/wp
X-WR-CALDESC:Events for KRTN Enchanted Air Radio
BEGIN:VTIMEZONE
TZID:America/Denver
BEGIN:DAYLIGHT
TZOFFSETFROM:-0700
TZOFFSETTO:-0600
TZNAME:MDT
DTSTART:20200308T090000
END:DAYLIGHT
BEGIN:STANDARD
TZOFFSETFROM:-0600
TZOFFSETTO:-0700
TZNAME:MST
DTSTART:20201101T080000
END:STANDARD
END:VTIMEZONE
BEGIN:VEVENT
DTSTART;TZID=America/Denver:20200319T110000
DTEND;TZID=America/Denver:20200319T130000
DTSTAMP:20260425T201143
CREATED:20200121T232656Z
LAST-MODIFIED:20200317T204744Z
UID:59006-1584615600-1584622800@krtnradio.com
SUMMARY:Conference Call Online: Chronic Pain Self Management Classes ~ Mt. Carmel Wellness & Community
DESCRIPTION:Course Topics:\nLearn techniques for managing fatigue\, frustration\, poor sleep and isolation.\nLearn about tools for managing pain and tracking improvements.\nLearn exercises for improving strength\, flexibility and balance.\nLearn how to manage medications.\nLearn how to effectively communicate with healthcare providers\, family and friends.\n_________________________________________________\nPLUS!!! On Saturday 4/18\nLearn to make healthy food choices and prepare meals for managing inflammation and optimizing nutrition. \nCall 719-845-4894 for more information or to sign-up!
URL:https://krtnradio.com/wp/event/chronic-pain-self-management-classes-mt-carmel-wellness-community-3/
LOCATION:Mt Carmel Health\, Wellness\, & Community Center\, Trinidad\, CO\, 81082\, United States
CATEGORIES:Meetings
ATTACH;FMTTYPE=image/jpeg:https://krtnradio.com/wp/wp-content/uploads/2020/01/Chronic-Pain-Class-2020.jpg
END:VEVENT
END:VCALENDAR