BEGIN:VCALENDAR
VERSION:2.0
PRODID:-//KRTN Enchanted Air Radio - ECPv5.16.4.1//NONSGML v1.0//EN
CALSCALE:GREGORIAN
METHOD:PUBLISH
X-WR-CALNAME:KRTN Enchanted Air Radio
X-ORIGINAL-URL:https://krtnradio.com/wp
X-WR-CALDESC:Events for KRTN Enchanted Air Radio
BEGIN:VTIMEZONE
TZID:America/Denver
BEGIN:DAYLIGHT
TZOFFSETFROM:-0700
TZOFFSETTO:-0600
TZNAME:MDT
DTSTART:20180311T090000
END:DAYLIGHT
BEGIN:STANDARD
TZOFFSETFROM:-0600
TZOFFSETTO:-0700
TZNAME:MST
DTSTART:20181104T080000
END:STANDARD
END:VTIMEZONE
BEGIN:VEVENT
DTSTART;TZID=America/Denver:20180927T100000
DTEND;TZID=America/Denver:20180927T130000
DTSTAMP:20260424T122258
CREATED:20180824T163912Z
LAST-MODIFIED:20180920T195347Z
UID:42498-1538042400-1538053200@krtnradio.com
SUMMARY:Chronic Pain Self-Management Class
DESCRIPTION:FREE Class in Garden Room at Mt. Carmel Wellness & Community Center \nTOPICS COVERED\n· Techniques to deal with fatigue\, frustration\, isolation and poor sleep\n· Exercise tips for maintaining and improving strength\, flexibility and endurance\n· Communicating effectively with family\, friends and health professionals\n· Managing medications\, activity and rest levels\n· How to evaluate new treatment\n· Setting weekly goals\n· Nutrition \nThis 6-week class helps you deal with the challenges of living with chronic pain. Classes are highly participative\, where mutual support and success build the participants’ confidence in their ability to manage their health and maintain active and fulfilling lives. The Chronic Pain Self-Management Program was developed at Stanford University.\nWho should participate? Anyone who is dealing with ongoing pain is encouraged to participate. Participants should be comfortable in a group setting. Friends and family welcome to attend! \nContact Patricia Duran to register for FREE:\n719-845-4875 | pduran@mtcarmelcenter.org
URL:https://krtnradio.com/wp/event/chronic-pain-self-management-class-4/
LOCATION:Mt Carmel Health\, Wellness\, & Community Center\, Trinidad\, CO\, 81082\, United States
CATEGORIES:Area Events
ATTACH;FMTTYPE=image/jpeg:https://krtnradio.com/wp/wp-content/uploads/2018/08/healthclasses.jpg
END:VEVENT
END:VCALENDAR