BEGIN:VCALENDAR
VERSION:2.0
PRODID:-//KRTN Enchanted Air Radio - ECPv5.16.4.1//NONSGML v1.0//EN
CALSCALE:GREGORIAN
METHOD:PUBLISH
X-WR-CALNAME:KRTN Enchanted Air Radio
X-ORIGINAL-URL:https://krtnradio.com/wp
X-WR-CALDESC:Events for KRTN Enchanted Air Radio
BEGIN:VTIMEZONE
TZID:America/Denver
BEGIN:DAYLIGHT
TZOFFSETFROM:-0700
TZOFFSETTO:-0600
TZNAME:MDT
DTSTART:20160313T090000
END:DAYLIGHT
BEGIN:STANDARD
TZOFFSETFROM:-0600
TZOFFSETTO:-0700
TZNAME:MST
DTSTART:20161106T080000
END:STANDARD
END:VTIMEZONE
BEGIN:VEVENT
DTSTART;TZID=America/Denver:20161215T140000
DTEND;TZID=America/Denver:20161215T180000
DTSTAMP:20260425T045132
CREATED:20161128T203618Z
LAST-MODIFIED:20161128T204035Z
UID:31336-1481810400-1481824800@krtnradio.com
SUMMARY:Christmas Open House: Edward Jones Office of EJ Johnson Office
DESCRIPTION:The Edward Jones office of EJ Johnson hopes to add some extra merry to your Christmas season with a Christmas Open House on Thursday\, December 15th\, 2 pm-6 pm at 700 S 2nd Street in Raton. The open house event is their gift of appreciation to clients\, friends and neighbors who make this community a wonderful place to have a business. Refreshments and light snacks will be served. \nYour family and friends are welcome to attend. Please call Becky at 575-445-2345 to RSVP by December 9\, 2016.  \n  \nE J Johnson\, Finanical Advisor \nBecky Tregellas\, Branch Office Administrator  \nLexi Stolarczyk\, On-Call BOA \n 
URL:https://krtnradio.com/wp/event/christmas-open-house-edward-jones-office-of-ej-johnson-office/
CATEGORIES:Area Events
ATTACH;FMTTYPE=image/jpeg:https://krtnradio.com/wp/wp-content/uploads/2014/12/holiday-open-house.jpg
END:VEVENT
END:VCALENDAR