BEGIN:VCALENDAR
VERSION:2.0
PRODID:-//KRTN Enchanted Air Radio - ECPv5.16.4.1//NONSGML v1.0//EN
CALSCALE:GREGORIAN
METHOD:PUBLISH
X-WR-CALNAME:KRTN Enchanted Air Radio
X-ORIGINAL-URL:https://krtnradio.com/wp
X-WR-CALDESC:Events for KRTN Enchanted Air Radio
BEGIN:VTIMEZONE
TZID:America/Denver
BEGIN:DAYLIGHT
TZOFFSETFROM:-0700
TZOFFSETTO:-0600
TZNAME:MDT
DTSTART:20160313T090000
END:DAYLIGHT
BEGIN:STANDARD
TZOFFSETFROM:-0600
TZOFFSETTO:-0700
TZNAME:MST
DTSTART:20161106T080000
END:STANDARD
END:VTIMEZONE
BEGIN:VEVENT
DTSTART;VALUE=DATE:20161214
DTEND;VALUE=DATE:20161218
DTSTAMP:20260425T094308
CREATED:20161206T171933Z
LAST-MODIFIED:20161206T171933Z
UID:31483-1481673600-1482019199@krtnradio.com
SUMMARY:Christmas Memories Remembering Christmases Past (Raton Museum)
DESCRIPTION:The Raton Museum is pleased to offer another installment of FACEs and PLACEs: Christmas Memories Remembering Christmases Past. This exhibit includes photographs from the “Robert Campbell Collection” and the “Raton Public Service Co. Collection”. Christmas cards\, ornaments and toys from the Raton Museum collection will be also be on display in the Gallery from December 7\, 2016 – January 7\,2017. Raton Museum Winter Hours:  Wednesday through Saturday 10-4.
URL:https://krtnradio.com/wp/event/christmas-memories-remembering-christmases-past-raton-museum-2/
LOCATION:Raton Museum\, 108 South Second Street\, Raton\, NM\, 87740\, United States
CATEGORIES:Area Events
ATTACH;FMTTYPE=image/jpeg:https://krtnradio.com/wp/wp-content/uploads/2015/12/christmas-victorian-girl-wreath.jpg
END:VEVENT
END:VCALENDAR