BEGIN:VCALENDAR
VERSION:2.0
PRODID:-//KRTN Enchanted Air Radio - ECPv5.16.4.1//NONSGML v1.0//EN
CALSCALE:GREGORIAN
METHOD:PUBLISH
X-WR-CALNAME:KRTN Enchanted Air Radio
X-ORIGINAL-URL:https://krtnradio.com/wp
X-WR-CALDESC:Events for KRTN Enchanted Air Radio
BEGIN:VTIMEZONE
TZID:America/Denver
BEGIN:DAYLIGHT
TZOFFSETFROM:-0700
TZOFFSETTO:-0600
TZNAME:MDT
DTSTART:20160313T090000
END:DAYLIGHT
BEGIN:STANDARD
TZOFFSETFROM:-0600
TZOFFSETTO:-0700
TZNAME:MST
DTSTART:20161106T080000
END:STANDARD
END:VTIMEZONE
BEGIN:VEVENT
DTSTART;VALUE=DATE:20161224
DTEND;VALUE=DATE:20161226
DTSTAMP:20260424T165329
CREATED:20161220T222121Z
LAST-MODIFIED:20161220T222121Z
UID:31755-1482537600-1482710399@krtnradio.com
SUMMARY:Christmas Eve & Christmas Day Services
DESCRIPTION:Christmas Eve Carols\, Communion\, & Candlelight Service at First United Methodist Church in Raton at 7:30 pm. Address:  1501 S 4th Street\, Raton. \nThere will also be Christmas Eve Services at Grace United Methodist Church in Des Moines at 5:00 pm.  Address:  7 Moody Ave\, Des Moines. \n  \nChristmas Eve worship of Lessons and Carols will be held at Maxwell United Methodist Church onSaturday\, the 24th at 5:00.  All are invited to share together in this Season of Blessings and Hope.\nChristmas Eve Music Concert and Lessons and Carols will be held at Cimarron United Methodist at 6:45 on Saturday\, December 24th at 6:45.  All are invited to share together in  this Season of Blessings and Hope. \n  \nChristmas Day Services at the First United Methodist Church (Raton) will begin at 11:00 am downstairs in the Fellowship Hall.  It is best to park in the lower parking lot located behind the church.
URL:https://krtnradio.com/wp/event/christmas-eve-christmas-day-services/
CATEGORIES:Area Events
ATTACH;FMTTYPE=image/jpeg:https://krtnradio.com/wp/wp-content/uploads/2015/12/christmas-eve-service.jpg
END:VEVENT
END:VCALENDAR