BEGIN:VCALENDAR
VERSION:2.0
PRODID:-//KRTN Enchanted Air Radio - ECPv5.16.4.1//NONSGML v1.0//EN
CALSCALE:GREGORIAN
METHOD:PUBLISH
X-WR-CALNAME:KRTN Enchanted Air Radio
X-ORIGINAL-URL:https://krtnradio.com/wp
X-WR-CALDESC:Events for KRTN Enchanted Air Radio
BEGIN:VTIMEZONE
TZID:America/Denver
BEGIN:DAYLIGHT
TZOFFSETFROM:-0700
TZOFFSETTO:-0600
TZNAME:MDT
DTSTART:20200308T090000
END:DAYLIGHT
BEGIN:STANDARD
TZOFFSETFROM:-0600
TZOFFSETTO:-0700
TZNAME:MST
DTSTART:20201101T080000
END:STANDARD
END:VTIMEZONE
BEGIN:VEVENT
DTSTART;TZID=America/Denver:20200314T130000
DTEND;TZID=America/Denver:20200314T160000
DTSTAMP:20260425T214233
CREATED:20200227T163235Z
LAST-MODIFIED:20200227T170635Z
UID:60543-1584190800-1584201600@krtnradio.com
SUMMARY:Chalk Couture Eggs ~ Patchwork Phoenix
DESCRIPTION:Chalk Couture Eggs\nSaturday\, March 14\, 1:00 PM – 4:00 PM\n$23\nMake three wooden egg cutouts and decorate with Chalk Couture\, a chalk paste that goes on wet and dries hard\, but comes off with water! \nElisabeth Martinez will share this fun technique. Just in time for Easter decorating! \nSpring into Spring\nMarch 2020\nFabric & Batting Sale!\nThe more you buy\, the more you save!\nBuy 1 yard of one fabric get 10% off\nBuy 2 yards of one fabric get 20% off\nBuy 3 yards of one fabric get 30% off\nBuy 4 yards of one fabric get 40% off\nBuy 3 yards of Hobbs 80/20 Black get 30% off\nNotions Clearance – All notions 30% Off\nFree Clearance Basket. Pick one item per visit\nSales ends March 31\, 2020
URL:https://krtnradio.com/wp/event/chalk-couture-eggs-patchwork-phoenix/
LOCATION:Patchwork Phoenix\, 228 South 1st Street\, Raton\, NM\, 87740\, United States
CATEGORIES:Meetings
ATTACH;FMTTYPE=image/jpeg:https://krtnradio.com/wp/wp-content/uploads/2018/08/patchworkphoenix.jpg
END:VEVENT
END:VCALENDAR