BEGIN:VCALENDAR
VERSION:2.0
PRODID:-//KRTN Enchanted Air Radio - ECPv5.16.4.1//NONSGML v1.0//EN
CALSCALE:GREGORIAN
METHOD:PUBLISH
X-WR-CALNAME:KRTN Enchanted Air Radio
X-ORIGINAL-URL:https://krtnradio.com/wp
X-WR-CALDESC:Events for KRTN Enchanted Air Radio
BEGIN:VTIMEZONE
TZID:America/Denver
BEGIN:DAYLIGHT
TZOFFSETFROM:-0700
TZOFFSETTO:-0600
TZNAME:MDT
DTSTART:20200308T090000
END:DAYLIGHT
BEGIN:STANDARD
TZOFFSETFROM:-0600
TZOFFSETTO:-0700
TZNAME:MST
DTSTART:20201101T080000
END:STANDARD
END:VTIMEZONE
BEGIN:VEVENT
DTSTART;TZID=America/Denver:20200401T090000
DTEND;TZID=America/Denver:20200401T170000
DTSTAMP:20260425T172916
CREATED:20200115T203715Z
LAST-MODIFIED:20200115T203847Z
UID:58668-1585731600-1585760400@krtnradio.com
SUMMARY:Census Day! ~ Carnegie Public Library
DESCRIPTION:Information on how to fill out your form. Census workers will only go to those homes who do not return the forms and that will begin after April 1\, 2020. Come to the library to celebrate this historic day.
URL:https://krtnradio.com/wp/event/census-day-carnegie-public-library/
LOCATION:Carnegie Public Library of Trinidad\, 202 N. Animas\, Trinidad\, CO\, 81082\, United States
CATEGORIES:Area Events
ATTACH;FMTTYPE=image/jpeg:https://krtnradio.com/wp/wp-content/uploads/2020/01/Census-2020.jpg
END:VEVENT
END:VCALENDAR