BEGIN:VCALENDAR
VERSION:2.0
PRODID:-//KRTN Enchanted Air Radio - ECPv5.16.4.1//NONSGML v1.0//EN
CALSCALE:GREGORIAN
METHOD:PUBLISH
X-WR-CALNAME:KRTN Enchanted Air Radio
X-ORIGINAL-URL:https://krtnradio.com/wp
X-WR-CALDESC:Events for KRTN Enchanted Air Radio
BEGIN:VTIMEZONE
TZID:America/Denver
BEGIN:DAYLIGHT
TZOFFSETFROM:-0700
TZOFFSETTO:-0600
TZNAME:MDT
DTSTART:20200308T090000
END:DAYLIGHT
BEGIN:STANDARD
TZOFFSETFROM:-0600
TZOFFSETTO:-0700
TZNAME:MST
DTSTART:20201101T080000
END:STANDARD
END:VTIMEZONE
BEGIN:VEVENT
DTSTART;TZID=America/Denver:20200531T110000
DTEND;TZID=America/Denver:20200531T110000
DTSTAMP:20260425T124202
CREATED:20200529T161752Z
LAST-MODIFIED:20200529T161752Z
UID:63253-1590922800-1590922800@krtnradio.com
SUMMARY:Celebrating Pentecost with Cimarron United Methodist Church
DESCRIPTION:Cimarron United Methodist Church welcomes members and friends to worship on Sunday\, May 31\, at 11:00. \nWe will be CELEBRATING PENTECOST!! \nWe continue enforcing the precautions needed to keep people safe during this pandemic. \nEveryone will be required to wear masks and honor the six-foot distancing suggestion. \nIf you desire to worship with us\, please call Pastor Ellen for a reservation: 575.447.6256. \nWe can only allow 18 persons in the sanctuary in addition to the four conducting worship. \nWe will continue to broadcast our worship live on Facebook at 11:00 AM.
URL:https://krtnradio.com/wp/event/celebrating-pentecost-with-cimarron-united-methodist-church/
LOCATION:Cimarron United Methodist Church\, Cimarron\, NM\, United States
CATEGORIES:Area Events
ATTACH;FMTTYPE=image/jpeg:https://krtnradio.com/wp/wp-content/uploads/2020/05/Cimarron-United-Methodist-Church-logo.jpg
END:VEVENT
END:VCALENDAR