BEGIN:VCALENDAR
VERSION:2.0
PRODID:-//KRTN Enchanted Air Radio - ECPv5.16.4.1//NONSGML v1.0//EN
CALSCALE:GREGORIAN
METHOD:PUBLISH
X-WR-CALNAME:KRTN Enchanted Air Radio
X-ORIGINAL-URL:https://krtnradio.com/wp
X-WR-CALDESC:Events for KRTN Enchanted Air Radio
BEGIN:VTIMEZONE
TZID:America/Denver
BEGIN:DAYLIGHT
TZOFFSETFROM:-0700
TZOFFSETTO:-0600
TZNAME:MDT
DTSTART:20200308T090000
END:DAYLIGHT
BEGIN:STANDARD
TZOFFSETFROM:-0600
TZOFFSETTO:-0700
TZNAME:MST
DTSTART:20201101T080000
END:STANDARD
END:VTIMEZONE
BEGIN:VEVENT
DTSTART;TZID=America/Denver:20200626T180000
DTEND;TZID=America/Denver:20200626T180000
DTSTAMP:20260425T111859
CREATED:20200625T162001Z
LAST-MODIFIED:20200625T162135Z
UID:63982-1593194400-1593194400@krtnradio.com
SUMMARY:Cash Mob featuring Trinidad History Museum
DESCRIPTION:* Join us Friday\, June 26th at 6 PM for the Trinidad Historic Main Street’s Virtual Cash Mob featuring Trinidad History Museum\n* We will host a Facebook Live.\n* Be sure to select “videos” on our Historic Main Street page at 6 pm\, or scroll done the FB page at 6 pm for the live video.\n*Kirby will be showing a variety of unique items that are at the shop. If you like an item\, be the 1st person to commit and make a comment\, on the video\, that you would like to purchase. (Sometimes there are multiple available.) A member of the team will comment “confirmed” and then contact you through private message.\n* Kirby will contact you the following day for payment and arrange pick-up.\n* If you miss the live version\, you can always watch later and SHOP LOCAL! \n \n 
URL:https://krtnradio.com/wp/event/cash-mob-featuring-trinidad-history-museum/
CATEGORIES:Area Events
ATTACH;FMTTYPE=image/jpeg:https://krtnradio.com/wp/wp-content/uploads/2020/05/Trinidad-Cash-Mobs-Logo.jpg
END:VEVENT
END:VCALENDAR