BEGIN:VCALENDAR
VERSION:2.0
PRODID:-//KRTN Enchanted Air Radio - ECPv5.16.4.1//NONSGML v1.0//EN
CALSCALE:GREGORIAN
METHOD:PUBLISH
X-WR-CALNAME:KRTN Enchanted Air Radio
X-ORIGINAL-URL:https://krtnradio.com/wp
X-WR-CALDESC:Events for KRTN Enchanted Air Radio
BEGIN:VTIMEZONE
TZID:America/Denver
BEGIN:DAYLIGHT
TZOFFSETFROM:-0700
TZOFFSETTO:-0600
TZNAME:MDT
DTSTART:20200308T090000
END:DAYLIGHT
BEGIN:STANDARD
TZOFFSETFROM:-0600
TZOFFSETTO:-0700
TZNAME:MST
DTSTART:20201101T080000
END:STANDARD
END:VTIMEZONE
BEGIN:VEVENT
DTSTART;TZID=America/Denver:20200318T100000
DTEND;TZID=America/Denver:20200318T133000
DTSTAMP:20260425T214253
CREATED:20200115T224704Z
LAST-MODIFIED:20200115T224839Z
UID:58689-1584525600-1584538200@krtnradio.com
SUMMARY:Care & Share Distribution ~ Las Animas County Fairgrounds
DESCRIPTION:
URL:https://krtnradio.com/wp/event/care-share-distribution-las-animas-county-fairgrounds-3/
LOCATION:Las Animas County Fairgrounds Event Center\, 2200 N. Linden Ave\, Trinidad\, CO\, 81082
CATEGORIES:Meetings
ATTACH;FMTTYPE=image/png:https://krtnradio.com/wp/wp-content/uploads/2020/01/Care-SHare-Logo-e1579128273415.png
END:VEVENT
END:VCALENDAR