BEGIN:VCALENDAR
VERSION:2.0
PRODID:-//KRTN Enchanted Air Radio - ECPv5.16.4.1//NONSGML v1.0//EN
CALSCALE:GREGORIAN
METHOD:PUBLISH
X-WR-CALNAME:KRTN Enchanted Air Radio
X-ORIGINAL-URL:https://krtnradio.com/wp
X-WR-CALDESC:Events for KRTN Enchanted Air Radio
BEGIN:VTIMEZONE
TZID:America/Denver
BEGIN:DAYLIGHT
TZOFFSETFROM:-0700
TZOFFSETTO:-0600
TZNAME:MDT
DTSTART:20200308T090000
END:DAYLIGHT
BEGIN:STANDARD
TZOFFSETFROM:-0600
TZOFFSETTO:-0700
TZNAME:MST
DTSTART:20201101T080000
END:STANDARD
END:VTIMEZONE
BEGIN:VEVENT
DTSTART;TZID=America/Denver:20200706T180000
DTEND;TZID=America/Denver:20200706T200000
DTSTAMP:20260425T111859
CREATED:20200618T173813Z
LAST-MODIFIED:20200618T173813Z
UID:63826-1594058400-1594065600@krtnradio.com
SUMMARY:Canvas & Conversation ~ Hosted by Mt. Carmel Wellness & Community Center
DESCRIPTION:Meet new friends\, relax and socialize while taking an art lesson.\nCanvas & paints included. \nJoin us for Virtual Canvas & Conversation\nJuly 6th from 6-8 pm \n$15 per person. \nRegister below:\nhttps://us02web.zoom.us/meeting/register/tZckdO-rqTojHNBvmqyF6rs0pFUYkh2ps6KI \nYou will receive a Zoom Confirmation Email that includes your link to join upon registration. You will be contacted to arrange for payment upon registration.
URL:https://krtnradio.com/wp/event/canvas-conversation-hosted-by-mt-carmel-wellness-community-center/
CATEGORIES:Area Events
ATTACH;FMTTYPE=image/jpeg:https://krtnradio.com/wp/wp-content/uploads/2020/06/Canvas-Conversation-Mt-Carmel-July.jpg
END:VEVENT
END:VCALENDAR