BEGIN:VCALENDAR
VERSION:2.0
PRODID:-//KRTN Enchanted Air Radio - ECPv5.16.4.1//NONSGML v1.0//EN
CALSCALE:GREGORIAN
METHOD:PUBLISH
X-WR-CALNAME:KRTN Enchanted Air Radio
X-ORIGINAL-URL:https://krtnradio.com/wp
X-WR-CALDESC:Events for KRTN Enchanted Air Radio
BEGIN:VTIMEZONE
TZID:America/Denver
BEGIN:DAYLIGHT
TZOFFSETFROM:-0700
TZOFFSETTO:-0600
TZNAME:MDT
DTSTART:20240310T090000
END:DAYLIGHT
BEGIN:STANDARD
TZOFFSETFROM:-0600
TZOFFSETTO:-0700
TZNAME:MST
DTSTART:20241103T080000
END:STANDARD
END:VTIMEZONE
BEGIN:VEVENT
DTSTART;TZID=America/Denver:20240301T190000
DTEND;TZID=America/Denver:20240301T190000
DTSTAMP:20260424T033457
CREATED:20230914T195847Z
LAST-MODIFIED:20230914T195847Z
UID:86147-1709319600-1709319600@krtnradio.com
SUMMARY:Camille and Stuie of the French Family Band
DESCRIPTION:Camille and Stuie of the French Family Band\nRaton Arts & Humanities Council\, The Historic Shuler Theater\n145 South 1st Street\, 87740 Raton\, NM\nDate: March 1\, 2024 @ 7:00pm\nReserved Seating.\nSingle Ticket Prices: Adult $20/ Senior $15/ Student $10\nSeason Ticket Prices: Adult $90/ Senior $70/ Student $50
URL:https://krtnradio.com/wp/event/camille-and-stuie-of-the-french-family-band/
CATEGORIES:Area Events
ATTACH;FMTTYPE=image/jpeg:https://krtnradio.com/wp/wp-content/uploads/2023/09/camille-and-stuie-of-the-french-family-band-474-279-1380.jpg
END:VEVENT
END:VCALENDAR