BEGIN:VCALENDAR
VERSION:2.0
PRODID:-//KRTN Enchanted Air Radio - ECPv5.16.4.1//NONSGML v1.0//EN
CALSCALE:GREGORIAN
METHOD:PUBLISH
X-WR-CALNAME:KRTN Enchanted Air Radio
X-ORIGINAL-URL:https://krtnradio.com/wp
X-WR-CALDESC:Events for KRTN Enchanted Air Radio
BEGIN:VTIMEZONE
TZID:America/Denver
BEGIN:DAYLIGHT
TZOFFSETFROM:-0700
TZOFFSETTO:-0600
TZNAME:MDT
DTSTART:20240310T090000
END:DAYLIGHT
BEGIN:STANDARD
TZOFFSETFROM:-0600
TZOFFSETTO:-0700
TZNAME:MST
DTSTART:20241103T080000
END:STANDARD
END:VTIMEZONE
BEGIN:VEVENT
DTSTART;TZID=America/Denver:20240505T110000
DTEND;TZID=America/Denver:20240505T170000
DTSTAMP:20260423T081224
CREATED:20240327T212806Z
LAST-MODIFIED:20240327T212806Z
UID:89627-1714906800-1714928400@krtnradio.com
SUMMARY:Bubble Hearts & Little C's Cinco De Mayo Fiesta at Ripley Park
DESCRIPTION:
URL:https://krtnradio.com/wp/event/bubble-hearts-little-cs-cinco-de-mayo-fiesta-at-ripley-park-2/
CATEGORIES:Area Events
END:VEVENT
END:VCALENDAR