BEGIN:VCALENDAR
VERSION:2.0
PRODID:-//KRTN Enchanted Air Radio - ECPv5.16.4.1//NONSGML v1.0//EN
CALSCALE:GREGORIAN
METHOD:PUBLISH
X-WR-CALNAME:KRTN Enchanted Air Radio
X-ORIGINAL-URL:https://krtnradio.com/wp
X-WR-CALDESC:Events for KRTN Enchanted Air Radio
BEGIN:VTIMEZONE
TZID:America/Denver
BEGIN:DAYLIGHT
TZOFFSETFROM:-0700
TZOFFSETTO:-0600
TZNAME:MDT
DTSTART:20260308T090000
END:DAYLIGHT
BEGIN:STANDARD
TZOFFSETFROM:-0600
TZOFFSETTO:-0700
TZNAME:MST
DTSTART:20261101T080000
END:STANDARD
END:VTIMEZONE
BEGIN:VEVENT
DTSTART;TZID=America/Denver:20260502T100000
DTEND;TZID=America/Denver:20260502T170000
DTSTAMP:20260423T074254
CREATED:20260403T180338Z
LAST-MODIFIED:20260403T180338Z
UID:100204-1777716000-1777741200@krtnradio.com
SUMMARY:Bubble Hearts and Lil C's 3rd Annual Cinco De Mayo Fiesta
DESCRIPTION:
URL:https://krtnradio.com/wp/event/bubble-hearts-and-lil-cs-3rd-annual-cinco-de-mayo-fiesta/
CATEGORIES:Area Events
END:VEVENT
END:VCALENDAR