BEGIN:VCALENDAR
VERSION:2.0
PRODID:-//KRTN Enchanted Air Radio - ECPv5.16.4.1//NONSGML v1.0//EN
CALSCALE:GREGORIAN
METHOD:PUBLISH
X-WR-CALNAME:KRTN Enchanted Air Radio
X-ORIGINAL-URL:https://krtnradio.com/wp
X-WR-CALDESC:Events for KRTN Enchanted Air Radio
BEGIN:VTIMEZONE
TZID:America/Denver
BEGIN:DAYLIGHT
TZOFFSETFROM:-0700
TZOFFSETTO:-0600
TZNAME:MDT
DTSTART:20180311T090000
END:DAYLIGHT
BEGIN:STANDARD
TZOFFSETFROM:-0600
TZOFFSETTO:-0700
TZNAME:MST
DTSTART:20181104T080000
END:STANDARD
END:VTIMEZONE
BEGIN:VEVENT
DTSTART;TZID=America/Denver:20180922T183000
DTEND;TZID=America/Denver:20180922T220000
DTSTAMP:20260425T215851
CREATED:20180917T170823Z
LAST-MODIFIED:20180920T151937Z
UID:43434-1537641000-1537653600@krtnradio.com
SUMMARY:Brother Brody: CD Release Party with Special Guests
DESCRIPTION:Mesa Church and Bible Connect Present: \nBrother Brody “Healed In The Name of Jesus”  CD Release Party \nWith Special Guests: \nDrew Ancira \nEcho Crew \nRealism \nRockin C \nDoors open at 6:30 PM Concert starts at 7 PM
URL:https://krtnradio.com/wp/event/brother-brody-cd-release-party-with-special-guests/
LOCATION:Mesa Church\, 140 North 1st Street\, Raton\, NM\, 87740
CATEGORIES:Area Events
ATTACH;FMTTYPE=image/jpeg:https://krtnradio.com/wp/wp-content/uploads/2018/09/41174989_1100995500048067_5527587639680565248_n.jpg
END:VEVENT
END:VCALENDAR