BEGIN:VCALENDAR
VERSION:2.0
PRODID:-//KRTN Enchanted Air Radio - ECPv5.16.4.1//NONSGML v1.0//EN
CALSCALE:GREGORIAN
METHOD:PUBLISH
X-WR-CALNAME:KRTN Enchanted Air Radio
X-ORIGINAL-URL:https://krtnradio.com/wp
X-WR-CALDESC:Events for KRTN Enchanted Air Radio
BEGIN:VTIMEZONE
TZID:America/Denver
BEGIN:DAYLIGHT
TZOFFSETFROM:-0700
TZOFFSETTO:-0600
TZNAME:MDT
DTSTART:20210314T090000
END:DAYLIGHT
BEGIN:STANDARD
TZOFFSETFROM:-0600
TZOFFSETTO:-0700
TZNAME:MST
DTSTART:20211107T080000
END:STANDARD
END:VTIMEZONE
BEGIN:VEVENT
DTSTART;TZID=America/Denver:20210417T190000
DTEND;TZID=America/Denver:20210417T190000
DTSTAMP:20260424T033345
CREATED:20200912T040120Z
LAST-MODIFIED:20200912T040120Z
UID:66952-1618686000-1618686000@krtnradio.com
SUMMARY:Black and Bolos Fundraiser Dinner and Dance Formal
DESCRIPTION:The Black and Bolos fundraiser dinner and dance formal is set for Saturday\, April 17th\, 2021 \n Be ready to celebrate 200 years of the Santa Fe Trail! \nFor more information and updates please visit: http://www.ratonrecreation.com \nCity of Raton Department of Parks and Recreation
URL:https://krtnradio.com/wp/event/black-and-bolos-fundraiser-dinner-and-dance-formal/
CATEGORIES:Area Events
ATTACH;FMTTYPE=image/png:https://krtnradio.com/wp/wp-content/uploads/2015/04/cowboy-cowgirl-circle.png
END:VEVENT
END:VCALENDAR