BEGIN:VCALENDAR
VERSION:2.0
PRODID:-//KRTN Enchanted Air Radio - ECPv5.16.4.1//NONSGML v1.0//EN
CALSCALE:GREGORIAN
METHOD:PUBLISH
X-WR-CALNAME:KRTN Enchanted Air Radio
X-ORIGINAL-URL:https://krtnradio.com/wp
X-WR-CALDESC:Events for KRTN Enchanted Air Radio
BEGIN:VTIMEZONE
TZID:America/Denver
BEGIN:DAYLIGHT
TZOFFSETFROM:-0700
TZOFFSETTO:-0600
TZNAME:MDT
DTSTART:20200308T090000
END:DAYLIGHT
BEGIN:STANDARD
TZOFFSETFROM:-0600
TZOFFSETTO:-0700
TZNAME:MST
DTSTART:20201101T080000
END:STANDARD
END:VTIMEZONE
BEGIN:VEVENT
DTSTART;TZID=America/Denver:20200319T173000
DTEND;TZID=America/Denver:20200319T173000
DTSTAMP:20260425T201143
CREATED:20200103T164102Z
LAST-MODIFIED:20200317T204058Z
UID:57954-1584639000-1584639000@krtnradio.com
SUMMARY:Cancelled: Bingo! ~ Mt. Carmel Wellness & Community Center
DESCRIPTION:The Third Wednesday of every month!\nNext Bingo Game is January 15th\nDoors open at 5:30 pm\nGame starts at 7:30 pm\n$250 Jackpot with payouts throughout!
URL:https://krtnradio.com/wp/event/bingo-mt-carmel-wellness-community-center-3/
LOCATION:Mt Carmel Health\, Wellness\, & Community Center\, Trinidad\, CO\, 81082\, United States
CATEGORIES:Meetings
ATTACH;FMTTYPE=image/png:https://krtnradio.com/wp/wp-content/uploads/2016/02/bingo-card.png
END:VEVENT
END:VCALENDAR