BEGIN:VCALENDAR
VERSION:2.0
PRODID:-//KRTN Enchanted Air Radio - ECPv5.16.4.1//NONSGML v1.0//EN
CALSCALE:GREGORIAN
METHOD:PUBLISH
X-WR-CALNAME:KRTN Enchanted Air Radio
X-ORIGINAL-URL:https://krtnradio.com/wp
X-WR-CALDESC:Events for KRTN Enchanted Air Radio
BEGIN:VTIMEZONE
TZID:America/Denver
BEGIN:DAYLIGHT
TZOFFSETFROM:-0700
TZOFFSETTO:-0600
TZNAME:MDT
DTSTART:20200308T090000
END:DAYLIGHT
BEGIN:STANDARD
TZOFFSETFROM:-0600
TZOFFSETTO:-0700
TZNAME:MST
DTSTART:20201101T080000
END:STANDARD
END:VTIMEZONE
BEGIN:VEVENT
DTSTART;TZID=America/Denver:20200328T190000
DTEND;TZID=America/Denver:20200328T190000
DTSTAMP:20260425T184147
CREATED:20200316T211858Z
LAST-MODIFIED:20200316T211858Z
UID:61139-1585422000-1585422000@krtnradio.com
SUMMARY:Bible Connect Reunion Concert ~ Mesa Church and Bible Connect
DESCRIPTION:Join us for an awesome time of Food\, Fellowship\, and Jesus. Bible Connect is a Christian Hip Hop Group known for its dynamic engaging performances for all ages. Come out expecting a move of God. \nJoin us on Sunday\, March 29th at Church with Special Guest Speaker James Padilla.
URL:https://krtnradio.com/wp/event/bible-connect-reunion-concert-mesa-church-and-bible-connect/
LOCATION:Mesa Church\, 140 North 1st Street\, Raton\, NM\, 87740
CATEGORIES:Area Events
ATTACH;FMTTYPE=image/jpeg:https://krtnradio.com/wp/wp-content/uploads/2019/06/Mesa-Church-Logo.jpg
END:VEVENT
END:VCALENDAR