BEGIN:VCALENDAR
VERSION:2.0
PRODID:-//KRTN Enchanted Air Radio - ECPv5.16.4.1//NONSGML v1.0//EN
CALSCALE:GREGORIAN
METHOD:PUBLISH
X-WR-CALNAME:KRTN Enchanted Air Radio
X-ORIGINAL-URL:https://krtnradio.com/wp
X-WR-CALDESC:Events for KRTN Enchanted Air Radio
BEGIN:VTIMEZONE
TZID:America/Denver
BEGIN:DAYLIGHT
TZOFFSETFROM:-0700
TZOFFSETTO:-0600
TZNAME:MDT
DTSTART:20200308T090000
END:DAYLIGHT
BEGIN:STANDARD
TZOFFSETFROM:-0600
TZOFFSETTO:-0700
TZNAME:MST
DTSTART:20201101T080000
END:STANDARD
END:VTIMEZONE
BEGIN:VEVENT
DTSTART;VALUE=DATE:20200912
DTEND;VALUE=DATE:20200913
DTSTAMP:20260424T172610
CREATED:20200906T171908Z
LAST-MODIFIED:20200906T171908Z
UID:66675-1599868800-1599955199@krtnradio.com
SUMMARY:Author Patricia H. Walsh will Hold a Special Curbside Book Signing September 12th
DESCRIPTION:Author Patricia H. Walsh will hold a special Curbside Book Signing in front of the Arthur Johnson Memorial Library on Saturday\, September 12th\, from 2:00 to 4:00 p.m.  She will be autographing her new mystery “Kiss the Snake” set on southern border of New Mexico and  featuring snake expert and ex-cop Sam Flynn who stumbles across a dead horse  that unearths a clue to a missing girl. \nPatricia Walsh is a park ranger and former journalist living in Northern New Mexico.  Her nature-based mysteries feature stories of wildlife and Native People with a touch of history thrown in \nThe first three people to buy an autographed copy of “Kiss the Snake” will receive a free copy of her book “A Prairie Mourning”.  Customers need not leave their cars – Ms. Walsh will deliver curbside. \nThe price of “Kiss the Snake” is $12.00.
URL:https://krtnradio.com/wp/event/author-patricia-h-walsh-will-hold-a-special-curbside-book-signing-september-12th/
LOCATION:Arthur Johnson Memorial Library\, 244 Park Ave\, Raton\, NM\, 87740\, United States
CATEGORIES:Area Events
ATTACH;FMTTYPE=image/jpeg:https://krtnradio.com/wp/wp-content/uploads/2020/09/author-female-clip-art-e1599412605195.jpg
END:VEVENT
END:VCALENDAR