BEGIN:VCALENDAR
VERSION:2.0
PRODID:-//KRTN Enchanted Air Radio - ECPv5.16.4.1//NONSGML v1.0//EN
CALSCALE:GREGORIAN
METHOD:PUBLISH
X-WR-CALNAME:KRTN Enchanted Air Radio
X-ORIGINAL-URL:https://krtnradio.com/wp
X-WR-CALDESC:Events for KRTN Enchanted Air Radio
BEGIN:VTIMEZONE
TZID:America/Denver
BEGIN:DAYLIGHT
TZOFFSETFROM:-0700
TZOFFSETTO:-0600
TZNAME:MDT
DTSTART:20240310T090000
END:DAYLIGHT
BEGIN:STANDARD
TZOFFSETFROM:-0600
TZOFFSETTO:-0700
TZNAME:MST
DTSTART:20241103T080000
END:STANDARD
END:VTIMEZONE
BEGIN:VEVENT
DTSTART;TZID=America/Denver:20240703T100000
DTEND;TZID=America/Denver:20240703T110000
DTSTAMP:20260423T033145
CREATED:20240320T174453Z
LAST-MODIFIED:20240320T174453Z
UID:89238-1720000800-1720004400@krtnradio.com
SUMMARY:Arthur Johnson Memorial Library Summer Story Hour
DESCRIPTION:
URL:https://krtnradio.com/wp/event/arthur-johnson-memorial-library-summer-story-hour-4/
CATEGORIES:Area Events
END:VEVENT
END:VCALENDAR