BEGIN:VCALENDAR
VERSION:2.0
PRODID:-//KRTN Enchanted Air Radio - ECPv5.16.4.1//NONSGML v1.0//EN
CALSCALE:GREGORIAN
METHOD:PUBLISH
X-WR-CALNAME:KRTN Enchanted Air Radio
X-ORIGINAL-URL:https://krtnradio.com/wp
X-WR-CALDESC:Events for KRTN Enchanted Air Radio
BEGIN:VTIMEZONE
TZID:America/Denver
BEGIN:DAYLIGHT
TZOFFSETFROM:-0700
TZOFFSETTO:-0600
TZNAME:MDT
DTSTART:20250309T090000
END:DAYLIGHT
BEGIN:STANDARD
TZOFFSETFROM:-0600
TZOFFSETTO:-0700
TZNAME:MST
DTSTART:20251102T080000
END:STANDARD
END:VTIMEZONE
BEGIN:VEVENT
DTSTART;TZID=America/Denver:20250521T100000
DTEND;TZID=America/Denver:20250521T110000
DTSTAMP:20260424T051309
CREATED:20250506T191159Z
LAST-MODIFIED:20250506T191159Z
UID:95671-1747821600-1747825200@krtnradio.com
SUMMARY:Arthur Johnson Memorial Library Pre-K Story Hour
DESCRIPTION: Arthur Johnson Memorial Library\n\n\n\n\n\n\n\n\n\n\n\n\n244 Cook Ave\, Raton\, NM\, United States\, New Mexico 87740\n\n\n\n\n\n\n\n\n\n\n\n\nDuration: 1 hr\n\n\n\n\n\n\n\n\n\n\n\nPublic:  · Anyone on or off Facebook\n\n\n\n\n\n\n\nStory hour every Wednesday\, 10 -11\, Reading and project provided by the library.
URL:https://krtnradio.com/wp/event/arthur-johnson-memorial-library-pre-k-story-hour-3/
CATEGORIES:Area Events
ATTACH;FMTTYPE=image/jpeg:https://krtnradio.com/wp/wp-content/uploads/2025/05/491655965_706489311707347_1092810517764696907_n.jpg
END:VEVENT
END:VCALENDAR