BEGIN:VCALENDAR
VERSION:2.0
PRODID:-//KRTN Enchanted Air Radio - ECPv5.16.4.1//NONSGML v1.0//EN
CALSCALE:GREGORIAN
METHOD:PUBLISH
X-WR-CALNAME:KRTN Enchanted Air Radio
X-ORIGINAL-URL:https://krtnradio.com/wp
X-WR-CALDESC:Events for KRTN Enchanted Air Radio
BEGIN:VTIMEZONE
TZID:America/Denver
BEGIN:DAYLIGHT
TZOFFSETFROM:-0700
TZOFFSETTO:-0600
TZNAME:MDT
DTSTART:20250309T090000
END:DAYLIGHT
BEGIN:STANDARD
TZOFFSETFROM:-0600
TZOFFSETTO:-0700
TZNAME:MST
DTSTART:20251102T080000
END:STANDARD
END:VTIMEZONE
BEGIN:VEVENT
DTSTART;TZID=America/Denver:20250829T150000
DTEND;TZID=America/Denver:20250829T170000
DTSTAMP:20260423T134311
CREATED:20250506T193233Z
LAST-MODIFIED:20250506T193233Z
UID:95707-1756479600-1756486800@krtnradio.com
SUMMARY:Arthur Johnson Memorial Library Let’s Talk History
DESCRIPTION: Arthur Johnson Memorial Library\n\n\n\n\n\n\n\n\n\n\n\n\n244 Cook Ave\, Raton\, NM\, United States\, New Mexico 87740\n\n\n\n\n\n\n\n\n\n\n\n\nDuration: 2 hr\n\n\n\n\n\n\n\n\n\n\n\nPublic  · Anyone on or off Facebook\n\n\n\n\n\n\n\nDive into History: Where the Past Comes Alive!\nEver wondered what life was really like in Raton’s boomtown days? Want to debate the wild tales of the Santa Fe Trail\, or dig into the mysteries hidden in the shadow of Sierra Grande? Then saddle up\, history buffs\, because we’re launching a brand-new history club that’s anything but dusty! Forget boring lectures—this is where you decide the adventure!\nEvery other week\, we’ll be resurrecting fascinating topics\, chosen by the group\, and bringing them kicking and screaming into the present. Got a burning historical question? Two weeks to dig up the dirt\, and then unleash your inner historian! And hey\, if you’d rather just sit back and watch the past unfold\, that’s totally cool too. This isn’t just about learning dates and names; it’s about making history explode with life!”
URL:https://krtnradio.com/wp/event/arthur-johnson-memorial-library-lets-talk-history-7/
CATEGORIES:Area Events
ATTACH;FMTTYPE=image/jpeg:https://krtnradio.com/wp/wp-content/uploads/2025/05/487315069_691759876513624_8072292455515294267_n.jpg
END:VEVENT
END:VCALENDAR