BEGIN:VCALENDAR
VERSION:2.0
PRODID:-//KRTN Enchanted Air Radio - ECPv5.16.4.1//NONSGML v1.0//EN
CALSCALE:GREGORIAN
METHOD:PUBLISH
X-WR-CALNAME:KRTN Enchanted Air Radio
X-ORIGINAL-URL:https://krtnradio.com/wp
X-WR-CALDESC:Events for KRTN Enchanted Air Radio
BEGIN:VTIMEZONE
TZID:America/Denver
BEGIN:DAYLIGHT
TZOFFSETFROM:-0700
TZOFFSETTO:-0600
TZNAME:MDT
DTSTART:20250309T090000
END:DAYLIGHT
BEGIN:STANDARD
TZOFFSETFROM:-0600
TZOFFSETTO:-0700
TZNAME:MST
DTSTART:20251102T080000
END:STANDARD
END:VTIMEZONE
BEGIN:VEVENT
DTSTART;TZID=America/Denver:20250607T100000
DTEND;TZID=America/Denver:20250607T140000
DTSTAMP:20260424T033457
CREATED:20250604T183726Z
LAST-MODIFIED:20250604T183726Z
UID:96098-1749290400-1749304800@krtnradio.com
SUMMARY:Arthur Johnson Memorial Library Friends of the Family Book Sale
DESCRIPTION:
URL:https://krtnradio.com/wp/event/arthur-johnson-memorial-library-friends-of-the-family-book-sale/
CATEGORIES:Area Events
END:VEVENT
END:VCALENDAR