BEGIN:VCALENDAR
VERSION:2.0
PRODID:-//KRTN Enchanted Air Radio - ECPv5.16.4.1//NONSGML v1.0//EN
CALSCALE:GREGORIAN
METHOD:PUBLISH
X-WR-CALNAME:KRTN Enchanted Air Radio
X-ORIGINAL-URL:https://krtnradio.com/wp
X-WR-CALDESC:Events for KRTN Enchanted Air Radio
BEGIN:VTIMEZONE
TZID:America/Denver
BEGIN:DAYLIGHT
TZOFFSETFROM:-0700
TZOFFSETTO:-0600
TZNAME:MDT
DTSTART:20250309T090000
END:DAYLIGHT
BEGIN:STANDARD
TZOFFSETFROM:-0600
TZOFFSETTO:-0700
TZNAME:MST
DTSTART:20251102T080000
END:STANDARD
END:VTIMEZONE
BEGIN:VEVENT
DTSTART;TZID=America/Denver:20250828T180000
DTEND;TZID=America/Denver:20250828T200000
DTSTAMP:20260423T030848
CREATED:20250506T194623Z
LAST-MODIFIED:20250506T194623Z
UID:95729-1756404000-1756411200@krtnradio.com
SUMMARY:Arthur Johnson Memorial Library AJML Paranormal
DESCRIPTION: Arthur Johnson Memorial Library\n\n\n\n\n\n\n\n\n\n\n\n\n244 Cook Ave\, Raton\, NM\, United States\, New Mexico 87740\n\n\n\n\n\n\n\n\n\n\n\n\nDuration: 2 hr\n\n\n\n\n\n\n\n\n\n\n\nPublic  · Anyone on or off Facebook\n\n\n\n\n\n\n\nAre you interested in things that go bump in the night? Things you can’t explain? Do you have a great story to tell? Then come join our paranormal club at the Arthur Johnson Memorial Library. Every other Thursday night..
URL:https://krtnradio.com/wp/event/arthur-johnson-memorial-library-ajml-paranormal-10/
ATTACH;FMTTYPE=image/jpeg:https://krtnradio.com/wp/wp-content/uploads/2025/05/491915684_705783195111292_4541241805741135115_n.jpg
END:VEVENT
END:VCALENDAR