BEGIN:VCALENDAR
VERSION:2.0
PRODID:-//KRTN Enchanted Air Radio - ECPv5.16.4.1//NONSGML v1.0//EN
CALSCALE:GREGORIAN
METHOD:PUBLISH
X-WR-CALNAME:KRTN Enchanted Air Radio
X-ORIGINAL-URL:https://krtnradio.com/wp
X-WR-CALDESC:Events for KRTN Enchanted Air Radio
BEGIN:VTIMEZONE
TZID:America/Denver
BEGIN:DAYLIGHT
TZOFFSETFROM:-0700
TZOFFSETTO:-0600
TZNAME:MDT
DTSTART:20200308T090000
END:DAYLIGHT
BEGIN:STANDARD
TZOFFSETFROM:-0600
TZOFFSETTO:-0700
TZNAME:MST
DTSTART:20201101T080000
END:STANDARD
END:VTIMEZONE
BEGIN:VEVENT
DTSTART;TZID=America/Denver:20200905T100000
DTEND;TZID=America/Denver:20200905T100000
DTSTAMP:20260424T133707
CREATED:20200805T210153Z
LAST-MODIFIED:20200805T212038Z
UID:65768-1599300000-1599300000@krtnradio.com
SUMMARY:Annual San Isidro Mass
DESCRIPTION:The Annual San Isidro Mass and function will take place at the \nSan Isidro Church in Tinaja\, New Mexico\, (off county road 810) \non Saturday\, September 5\, 2020 at 10:00 a.m. \nA potluck lunch will take place following the Mass. \n-Due to the COVID-19 Virus Restrictions\, Please bring your face masks if you plan to attend. \nPlease call Liz Romero at 575-445-8435 with any questions.
URL:https://krtnradio.com/wp/event/annual-san-isidro-mass/
LOCATION:San Isidro Church\, Tinaja\, New Mexico
CATEGORIES:Meetings
ATTACH;FMTTYPE=image/jpeg:https://krtnradio.com/wp/wp-content/uploads/2019/08/church-clip-art.jpg
END:VEVENT
END:VCALENDAR