BEGIN:VCALENDAR
VERSION:2.0
PRODID:-//KRTN Enchanted Air Radio - ECPv5.16.4.1//NONSGML v1.0//EN
CALSCALE:GREGORIAN
METHOD:PUBLISH
X-WR-CALNAME:KRTN Enchanted Air Radio
X-ORIGINAL-URL:https://krtnradio.com/wp
X-WR-CALDESC:Events for KRTN Enchanted Air Radio
BEGIN:VTIMEZONE
TZID:America/Denver
BEGIN:DAYLIGHT
TZOFFSETFROM:-0700
TZOFFSETTO:-0600
TZNAME:MDT
DTSTART:20240310T090000
END:DAYLIGHT
BEGIN:STANDARD
TZOFFSETFROM:-0600
TZOFFSETTO:-0700
TZNAME:MST
DTSTART:20241103T080000
END:STANDARD
END:VTIMEZONE
BEGIN:VEVENT
DTSTART;VALUE=DATE:20240127
DTEND;VALUE=DATE:20240128
DTSTAMP:20260424T210632
CREATED:20240112T203248Z
LAST-MODIFIED:20240112T203543Z
UID:87969-1706313600-1706399999@krtnradio.com
SUMMARY:Annual Ice Fishing Tournament on Eagle Nest Lake.
DESCRIPTION:
URL:https://krtnradio.com/wp/event/annual-ice-fishing-tournament-on-eagle-nest-lake/
CATEGORIES:Area Events
END:VEVENT
END:VCALENDAR